Workbook

Sheet 3 Statement Model
A1: FINANCIAL STATEMENTS | B1: Historical Results | F1: Forecast Period
B2: 2022 | C2: =B2+1 -> 2023 | D2: =C2+1 -> 2024 | E2: =D2+1 -> 2025 | F2: =E2+1 -> 2026 | G2: =F2+1 -> 2027 | H2: =G2+1 -> 2028 | I2: =H2+1 -> 2029 | J2: =I2+1 -> 2030
A3: *All values in millions unless otherwise expressed
A6: Assumptions & Drivers
A8: Key Assumptions
A9: Revenue Growth (% Change) | C9: =C193/B193-1 -> 0.079477325 | D9: =D193/C193-1 -> 0.19723725 | E9: =E193/D193-1 -> 0.1221601 | F9: =F193/E193-1 -> 0.080307233 | G9: =G193/F193-1 -> 0.058162796 | H9: =H193/G193-1 -> 0.061148268 | I9: =I193/H193-1 -> 0.05818156 | J9: =J193/I193-1 -> 0.057690322
A10: Cost of Goods and Services (% of Revenue) | B10: =-B199/B198 -> 0.43504996 | C10: =-C199/C198 -> 0.419681 | D10: =-D199/D198 -> 0.48203664 | E10: =-E199/E198 -> 0.51759593 | F10: =$E$10 -> 0.51759593 | G10: =$E$10 -> 0.51759593 | H10: =$E$10 -> 0.51759593 | I10: =$E$10 -> 0.51759593 | J10: =$E$10 -> 0.51759593
A11: Selling, General & Admin (% of Revenue) | B11: =-B203/B198 -> 0.24796311 | C11: =-C203/C198 -> 0.27342637 | D11: =-D203/D198 -> 0.24304069 | E11: =-E203/E198 -> 0.22249311 | F11: =AVERAGE($B$11:$E$11) -> 0.24673082 | G11: =AVERAGE($B$11:$E$11) -> 0.24673082 | H11: =AVERAGE($B$11:$E$11) -> 0.24673082 | I11: =AVERAGE($B$11:$E$11) -> 0.24673082 | J11: =AVERAGE($B$11:$E$11) -> 0.24673082
A12: Depreciation & Amoritization (% of PP&E) | B12: =-B301/B299 -> 0.060031596 | C12: =-C301/C299 -> 0.062994723 | D12: =-D301/D299 -> 0.085881588 | E12: =-E301/E299 -> 0.073630137 | F12: =AVERAGE($B$12:$E$12) -> 0.070634511 | G12: =AVERAGE($B$12:$E$12) -> 0.070634511 | H12: =AVERAGE($B$12:$E$12) -> 0.070634511 | I12: =AVERAGE($B$12:$E$12) -> 0.070634511 | J12: =AVERAGE($B$12:$E$12) -> 0.070634511
A13: Effective Interest Rate (% of Debt) | B13: =-B209/(B241+B243) -> 0.036908801 | C13: =-C209/(C241+C243) -> 0.04021281 | D13: =-D209/(D241+D243) -> 0.036230064 | E13: =-E209/(E241+E243) -> 0.032910262 | F13: =E13-0.001 -> 0.031910262 | G13: =F13-0.001 -> 0.030910262 | H13: =G13-0.001 -> 0.029910262 | I13: =H13-0.001 -> 0.028910262 | J13: =I13-0.001 -> 0.027910262
A14: Tax Rate (% of Earnings Before Tax) | B14: =-B215/B214 -> -0.085714286 | C14: =-C215/C214 -> -0.18238128 | D14: =-D215/D214 -> 0.20121614 | E14: =-E215/E214 -> 0.2868171 | F14: =AVERAGE($D$14:$E$14) -> 0.24401662 | G14: =AVERAGE($D$14:$E$14) -> 0.24401662 | H14: =AVERAGE($D$14:$E$14) -> 0.24401662 | I14: =AVERAGE($D$14:$E$14) -> 0.24401662 | J14: =AVERAGE($D$14:$E$14) -> 0.24401662
A15: Accounts Receivable (Days) | B15: =B231/B198*365 -> 34.45196 | C15: =C231/C198*365 -> 38.93264 | D15: =D231/D198*365 -> 30.308113 | E15: =E231/E198*365 -> 30.719737 | F15: =$E$15 -> 30.719737 | G15: =$E$15 -> 30.719737 | H15: =$E$15 -> 30.719737 | I15: =$E$15 -> 30.719737 | J15: =$E$15 -> 30.719737
A16: Inventory (Days) | B16: =-B232/B199*B30 -> 17.15371 | C16: =-C232/C199*C30 -> 20.559891 | D16: =-D232/D199*D30 -> 12.791214 | E16: =-E232/E199*E30 -> 15.323572 | F16: =$E$16 -> 15.323572 | G16: =$E$16 -> 15.323572 | H16: =$E$16 -> 15.323572 | I16: =$E$16 -> 15.323572 | J16: =$E$16 -> 15.323572
A17: Accounts Payable (Days) | B17: =-B240/B199*B30 -> 203.65194 | C17: =-C240/C199*C30 -> 194.57584 | D17: =-D240/D199*D30 -> 147.90967 | E17: =-E240/E199*E30 -> 139.03338 | F17: =$E$17 -> 139.03338 | G17: =$E$17 -> 139.03338 | H17: =$E$17 -> 139.03338 | I17: =$E$17 -> 139.03338 | J17: =$E$17 -> 139.03338
A18: Capital Expenditure (% of PP&E) | B18: =B300/B299 -> 0.031595577 | C18: =C300/C299 -> 0.039577836 | D18: =D300/D299 -> 0.065387118 | E18: =E300/E299 -> 0.064823875 | F18: =$E$18 -> 0.064823875 | G18: =$E$18 -> 0.064823875 | H18: =$E$18 -> 0.064823875 | I18: =$E$18 -> 0.064823875 | J18: =$E$18 -> 0.064823875
A19: Minority Interest (% of income) | B19: =-B218/B216 -> 0.31983806 | C19: =-C218/C216 -> 0.30733411 | D19: =-D218/D216 -> 0.29342561 | E19: =-E218/E216 -> 0.2489592 | F19: =$E$19 -> 0.2489592 | G19: =$E$19 -> 0.2489592 | H19: =$E$19 -> 0.2489592 | I19: =$E$19 -> 0.2489592 | J19: =$E$19 -> 0.2489592
A20: ST Debt (% of Total Debt) | B20: =B241/B310 -> 0.018281282 | C20: =C241/C310 -> 0.017135355 | D20: =D241/D310 -> 0.026058018 | E20: =E241/E310 -> 0.017092927 | F20: =$E$20 -> 0.017092927 | G20: =$E$20 -> 0.017092927 | H20: =$E$20 -> 0.017092927 | I20: =$E$20 -> 0.017092927 | J20: =$E$20 -> 0.017092927
A21: LT Debt (% of Total Debt) | B21: =B243/B310 -> 0.98171872 | C21: =C243/C310 -> 0.98286464 | D21: =D243/D310 -> 0.97394198 | E21: =E243/E310 -> 0.98290707 | F21: =$E$21 -> 0.98290707 | G21: =$E$21 -> 0.98290707 | H21: =$E$21 -> 0.98290707 | I21: =$E$21 -> 0.98290707 | J21: =$E$21 -> 0.98290707
A22: Dividend Growth (%) | C22: =(C324-B324)/B324 -> 0.018518519 | D22: =(D324-C324)/C324 -> 0.054545455 | E22: =(E324-D324)/D324 -> 0.068965517 | F22: =(F324-E324)/E324 -> 0.048387097 | G22: =$F$22 -> 0.048387097 | H22: =$F$22 -> 0.048387097 | I22: =$F$22 -> 0.048387097 | J22: =$F$22 -> 0.048387097
A23: Partnership Exchangeable Units | B23: 142.99664 | C23: 133.59776 | D23: 127.03858 | E23: 109.356 | F23: =E23-F24 -> 100.44664 | G23: =F23-G24 -> 91.537271 | H23: =G23-H24 -> 82.627906 | I23: =H23-I24 -> 73.718542 | J23: =I23-J24 -> 64.809177
A24: Partnership Exchangeable Units Exchanged | B24: 1.996818 | C24: 9.398876 | D24: 6.559187 | E24: =D23-E23 -> 17.682577 | F24: =AVERAGE($B$24:$E$24) -> 8.9093645 | G24: =AVERAGE($B$24:$E$24) -> 8.9093645 | H24: =AVERAGE($B$24:$E$24) -> 8.9093645 | I24: =AVERAGE($B$24:$E$24) -> 8.9093645 | J24: =AVERAGE($B$24:$E$24) -> 8.9093645
A25: Average Book Value per Unit | B25: =B$345/144.993458 -> 11.14533 | C25: =C$345/C23 -> 13.241255 | D25: =D$345/D23 -> 14.67274 | E25: =E$345/E23 -> 15.847355 | F25: =$D$25 -> 14.67274 | G25: =$D$25 -> 14.67274 | H25: =$D$25 -> 14.67274 | I25: =$D$25 -> 14.67274 | J25: =$D$25 -> 14.67274
A30: Days in Period | B30: 365 | C30: 365 | D30: 365 | E30: 365 | F30: 365 | G30: 365 | H30: 365 | I30: 365 | J30: 365
A33: By Segment:
A34: Tim Hortons - US & Canada
A35: Beginning Store Count | B35: ='2025 Segments'!E172 -> 4571 | C35: =B37 -> 4519 | D35: =C37 -> 4525 | E35: =D37 -> 4539 | F35: =E37 -> 4586 | G35: =F37 -> 4677.72 | H35: =G37 -> 4771.2744 | I35: =H37 -> 4866.6999 | J35: =I37 -> 4964.0339 | L35: =100/F35 -> 0.021805495 | M35: =100/G35 -> 0.021377936 | N35: =100/H35 -> 0.020958761 | O35: =100/I35 -> 0.020547805 | P35: =100/J35 -> 0.020144907
A36: Net Restaurant Growth (NRG) | B36: =(B37-B35)/B35 -> -0.011376067 | C36: =(C37-C35)/C35 -> 0.0013277274 | D36: =(D37-D35)/D35 -> 0.0030939227 | E36: =(E37-E35)/E35 -> 0.010354704 | F36: 0.02 | G36: 0.02 | H36: 0.02 | I36: 0.02 | J36: 0.02
A37: Ending Store Count | B37: ='2025 Segments'!F172 -> 4519 | C37: ='2025 Segments'!G172 -> 4525 | D37: ='2025 Segments'!H172 -> 4539 | E37: ='2025 Segments'!I172 -> 4586 | F37: =F35*(1+F36) -> 4677.72 | G37: =G35*(1+G36) -> 4771.2744 | H37: =H35*(1+H36) -> 4866.6999 | I37: =I35*(1+I36) -> 4964.0339 | J37: =J35*(1+J36) -> 5063.3146
A38: Average Store Count | B38: =AVERAGE(B35,B37) -> 4545 | C38: =AVERAGE(C35,C37) -> 4522 | D38: =AVERAGE(D35,D37) -> 4532 | E38: =AVERAGE(E35,E37) -> 4562.5 | F38: =AVERAGE(F35,F37) -> 4631.86 | G38: =AVERAGE(G35,G37) -> 4724.4972 | H38: =AVERAGE(H35,H37) -> 4818.9871 | I38: =AVERAGE(I35,I37) -> 4915.3669 | J38: =AVERAGE(J35,J37) -> 5013.6742
A40: Comparable Sales Growth (%) | B40: ='2025 Segments'!F143/100 -> 0.104 | C40: ='2025 Segments'!G143/100 -> 0.104 | D40: ='2025 Segments'!H143/100 -> 0.039 | E40: ='2025 Segments'!I143/100 -> 0.027 | F40: =$E$40 -> 0.027 | G40: =$E$40 -> 0.027 | H40: =$E$40 -> 0.027 | I40: =$E$40 -> 0.027 | J40: =$E$40 -> 0.027
A42: System-Wide Sales (SWS) | B42: ='2025 Segments'!F207 -> 6732 | C42: ='2025 Segments'!G207 -> 7245 | D42: ='2025 Segments'!H207 -> 7479 | E42: ='2025 Segments'!I207 -> 7573 | F42: =F38*F45 -> 8062.1327 | G42: =G38*G45 -> 8445.4065 | H42: =H38*H45 -> 8846.9011 | I42: =I38*I45 -> 9267.4828 | J42: =J38*J45 -> 9708.059
A43: System-Wide Sales (SWS) Growth (%) | B43: ='2025 Segments'!F235/100 -> 0.117 | C43: ='2025 Segments'!G235/100 -> 0.11 | D43: ='2025 Segments'!H235/100 -> 0.047 | E43: ='2025 Segments'!I235/100 -> 0.03 | F43: =F36+F40 -> 0.047 | G43: =G36+G40 -> 0.047 | H43: =H36+H40 -> 0.047 | I43: =I36+I40 -> 0.047 | J43: =J36+J40 -> 0.047
A45: Average Unit Volume (AUV $ millions) | C45: =C42/C38 -> 1.6021672 | D45: =D42/D38 -> 1.6502648 | E45: =D45*(1+E40) -> 1.6948219 | F45: =E45*(1+F40) -> 1.7405821 | G45: =F45*(1+G40) -> 1.7875778 | H45: =G45*(1+H40) -> 1.8358424 | I45: =H45*(1+I40) -> 1.8854102 | J45: =I45*(1+J40) -> 1.9363163
A47: Royalty Rate
A48: Ad Fund Contribution (% of System-Wide Sales) | B48: ='2025 Segments'!F10/'2025 Segments'!F207 -> 0.039512775 | C48: ='2025 Segments'!G10/'2025 Segments'!G207 -> 0.040303658 | D48: ='2025 Segments'!H10/'2025 Segments'!H207 -> 0.040246022 | E48: ='2025 Segments'!I10/'2025 Segments'!I207 -> 0.039350324 | F48: =$E$48 -> 0.039350324 | G48: =$E$48 -> 0.039350324 | H48: =$E$48 -> 0.039350324 | I48: =$E$48 -> 0.039350324 | J48: =$E$48 -> 0.039350324
A49: Franchise and Property (% of System-Wide Sales) | B49: ='2025 Segments'!F8/'2025 Segments'!F207 -> 0.13443256 | C49: ='2025 Segments'!G8/'2025 Segments'!G207 -> 0.13181504 | D49: ='2025 Segments'!H8/'2025 Segments'!H207 -> 0.13183581 | E49: ='2025 Segments'!I8/'2025 Segments'!I207 -> 0.13138783 | F49: =$E$49 -> 0.13138783 | G49: =$E$49 -> 0.13138783 | H49: =$E$49 -> 0.13138783 | I49: =$E$49 -> 0.13138783 | J49: =$E$49 -> 0.13138783
A50: Supply Chain Sales (% of System-Wide Sales) | B50: ='2025 Segments'!F12/'2025 Segments'!F207 -> 0.41166667 | C50: ='2025 Segments'!G12/'2025 Segments'!G207 -> 0.38859903 | D50: ='2025 Segments'!H12/'2025 Segments'!H207 -> 0.36208049 | E50: ='2025 Segments'!I12/'2025 Segments'!I207 -> 0.38412782 | F50: =$E$50 -> 0.38412782 | G50: =$E$50 -> 0.38412782 | H50: =$E$50 -> 0.38412782 | I50: =$E$50 -> 0.38412782 | J50: =$E$50 -> 0.38412782
A51: Company Resturant (% of System-Wide Sales) | B51: =IFERROR('2025 Segments'!F14/'2025 Segments'!F207,"") -> 0 | C51: =IFERROR('2025 Segments'!G14/'2025 Segments'!G207,"") -> 0 | D51: =IFERROR('2025 Segments'!H14/'2025 Segments'!H207,"") -> 0.0060168472 | E51: =IFERROR('2025 Segments'!I14/'2025 Segments'!I207,"") -> 0.006074211 | F51: =$E$51 -> 0.006074211 | G51: =$E$51 -> 0.006074211 | H51: =$E$51 -> 0.006074211 | I51: =$E$51 -> 0.006074211 | J51: =$E$51 -> 0.006074211
A53: Burger King - US & Canada
A54: Beginning Store Count (Units) | B54: ='2025 Segments'!E174 -> 7433 | C54: =B56 -> 7389 | D54: =C56 -> 7144 | E54: =D56 -> 7082 | F54: =E56 -> 7025 | G54: =F56 -> 6954.75 | H54: =G56 -> 6954.75 | I54: =H56 -> 7024.2975 | J54: =I56 -> 7094.5405
...

Sheet Comps
D2: EV/EBITDA | G2: P/E
B3: Company | C3: Ticker | D3: Current | E3: FY1 | F3: FY2 | G3: Current | H3: FY1 | I3: FY2
B4: McDonald's Corporation | C4: MCD | D4: 17.7 | E4: 17.32 | F4: 16.27 | G4: 26.7 | H4: 24.82 | I4: 22.76
B5: Yum! Brands, Inc. | C5: YUM | D5: 19.63 | E5: 17.72 | F5: 16.39 | G5: 27.01 | H5: 24.02 | I5: 21.5
B6: Starbucks | C6: SBUX | D6: 20.38 | E6: 22.36 | F6: 18.78 | G6: 42.73 | H6: 43.15 | I6: 33.53
B7: Chipotle Mexican Grill, Inc. | C7: CMG | D7: 17.65 | E7: 19.43 | F7: 16.72 | G7: 30.68 | H7: 30.94 | I7: 25.82
B8: Shake Shack Inc. | C8: SHAK | D8: 16.6 | E8: 16.29 | F8: 13.89 | G8: 73.8 | H8: 67.72 | I8: 53.52
B9: Wendy's CO | C9: WEN | D9: 8.82 | E9: 9.73 | F9: 9.44 | G9: 8.25 | H9: 12.71 | I9: 11.17
B10: Average | D10: =AVERAGE(D4:D9) -> 16.796667 | E10: =AVERAGE(E4:E9) -> 17.141667 | F10: =AVERAGE(F4:F9) -> 15.248333 | G10: =AVERAGE(G4:G9) -> 34.861667 | H10: =AVERAGE(H4:H9) -> 33.893333 | I10: =AVERAGE(I4:I9) -> 28.05
B11: Median | D11: =MEDIAN(D4:D9) -> 17.675 | E11: =MEDIAN(E4:E9) -> 17.52 | F11: =MEDIAN(F4:F9) -> 16.33 | G11: =MEDIAN(G4:G9) -> 28.845 | H11: =MEDIAN(H4:H9) -> 27.88 | I11: =MEDIAN(I4:I9) -> 24.29
B12: Restaurant Brands International | C12: QSR | D12: 22.05 | E12: 14.59 | F12: 13.8 | G12: 28.07 | H12: 18.25 | I12: 16.8
B17: Relative Valuation: | C17: EV/EBITDA | K17: Relative Valuation: | L17: P/E
B18: FY26 Comp Avg. | C18: =E10 -> 17.141667 | K18: FY26 Comp Avg. | L18: =H10 -> 33.893333
B19: FY26 Est. EBITDA | C19: ='3 Statement Model'!F222 -> 2703.0774 | K19: FY26 Est. Net Income | L19: ='3 Statement Model'!F219 -> 1079.6632
B20: Implied EV | C20: =C18*C19 -> 46335.252 | K20: Equity value | L20: =L18*L19 -> 36593.384
B21: Less Net Debt & Minority Interest | C21: ='WACC & DCF'!P70-'WACC & DCF'!P71 -> 14516 | K21: Shares Oustanding | L21: ='WACC & DCF'!D42 -> 457
B22: Equity value | C22: =C20-C21 -> 31819.252 | K22: Implied Price | L22: =L20/L21 -> 80.07305
B23: Shares Oustanding | C23: ='WACC & DCF'!D42 -> 457 | K23: Current Price | L23: ='WACC & DCF'!D41 -> 73.98
B24: Implied Price | C24: =C22/C23 -> 69.626372 | K24: Implied Upside | L24: =(L22-L23)/L23 -> 0.082360776
B25: Current Price | C25: ='WACC & DCF'!D41 -> 73.98
B26: Implied Upside | C26: =(C24-C25)/C25 -> -0.058848718

Sheet WACC & DCF
B2: Discount Rate Calculation
B3: Total Shareholders Equity: | H3: Risk-Free Rate: | I3: =E6 -> 0.04175
H4: Equity Risk Premium: | I4: =E7 -> 0.05
B5: Discount Rate Calculation - Assumptions | H5: Levered Beta: | I5: =G25 -> 0.96523657
B6: Risk-Free Rate: | E6: 0.04175 | H6: Cost of Equity | I6: =G28 -> 0.090011829
B7: Equity Risk Premium: | E7: 0.05
B8: Interest Rate on Debt: | E8: 0.044
H9: Interest Rate on Debt: | I9: =E8 -> 0.044
B11: Comparable Companies | C11: Levered | E11: Equity | G11: Unlevered
B12: Name | C12: Beta (5 Year) | D12: Net debt | E12: Value | F12: Tax Rate | G12: Beta
B13: McDonalds Corp | C13: 0.495 | D13: 54039 | E13: 233053.4 | F13: 0.2142 | G13: =C13/(1+(1-F13)*(D13/E13)) -> 0.41870857
B14: Yum Brands INC | C14: 0.555 | D14: 12480 | E14: 44228.8 | F14: 0.2494 | G14: =C14/(1+(1-F14)*(D14/E14)) -> 0.45799784
B15: Starbucks | C15: 1.016 | D15: 23144.5 | E15: 112779.3 | F15: 0.2595 | G15: =C15/(1+(1-F15)*(D15/E15)) -> 0.88197127
B16: Chipotle Mexican | C16: 1.066 | D16: 4026.7 | E16: 46066.7 | F16: 0.2358 | G16: =C16/(1+(1-F16)*(D16/E16)) -> 0.99925114
B17: Shake Shack | C17: 1.528 | D17: 550 | E17: 3991.6 | F17: 0.3154 | G17: =C17/(1+(1-F17)*(D17/E17)) -> 1.3962874
B18: Wendy's CO | C18: 0.641 | D18: 3844.2 | E18: 1412.5 | F18: 0.2736 | G18: =C18/(1+(1-F18)*(D18/E18)) -> 0.21532182
B19: Median | C19: =MEDIAN(C13:C18) -> 0.8285 | D19: =MEDIAN(D13:D18) -> 8253.35 | E19: =MEDIAN(E13:E18) -> 45147.75 | F19: =MEDIAN(F13:F18) -> 0.25445 | G19: =MEDIAN(G13:G18) -> 0.66998455
B20: Restaurant Brands International | C20: 0.473 | F20: Mean | G20: =AVERAGE(G13:G18) -> 0.72825634
C22: Unlevered | E22: Equity | G22: Levered
C23: Beta | D23: Net debt | E23: Value | F23: Tax Rate | G23: Beta
B25: =B20 -> Restaurant Brands International | C25: =G20 -> 0.72825634 | D25: 14516 | E25: 33723.4 | F25: ='3 Statement Model'!F14 -> 0.24401662 | G25: =C25*(1+(1-F25)*(D25/E25)) -> 0.96523657
B28: Cost of Equity Based on Comparables: | G28: =E6+E7*G25 -> 0.090011829
B29: Cost of Equity Based on Historical Beta: | G29: =E6+E7*C20 -> 0.0654
B30: WACC (Based on Comps) | G30: =G28*(E25/(E25+D25))+E8*(D25/(D25+E25))*(1-F25) -> 0.072935287
B31: DCF Model
B33: Assumptions
B34: Tax Rate | D34: =F25 -> 0.24401662
B35: Basic Computed WACC | D35: =G30 -> 0.072935287
B36: Risk Premium | D36: =E7 -> 0.05
B37: Discount Rate Used | D37: =D35 -> 0.072935287
B38: Implied Perpetual Growth Rate | D38: 0.03
B39: EV/EBITDA Multiple | D39: 16
B40: Transaction Date | D40: =D47 -> 45291
B41: Current Price | D41: 73.98
B42: Fully-Diluted Shares | D42: 457
B44: Date | C44: =TODAY() -> 46089
B46: Discounted Cash Flow | C46: FY22 | D46: FY23 | E46: FY24 | F46: FY25 | G46: FY26 | H46: FY27 | I46: FY28 | J46: FY29 | K46: FY30 | L46: Exit | N46: Terminal Value
B47: Date | C47: 44926 | D47: 45291 | E47: 45657 | F47: 46022 | G47: 46387 | H47: 46752 | I47: 47118 | J47: 47483 | K47: 47848 | L47: =K47 -> 47848 | N47: EV/EBITDA | P47: =D39*K53 -> 53004.998
N48: FCF | P48: =J69 -> 53795.041
B49: Revenue | C49: ='3 Statement Model'!B198 -> 6505 | D49: ='3 Statement Model'!C198 -> 7022 | E49: ='3 Statement Model'!D198 -> 8406 | F49: ='3 Statement Model'!E198 -> 9434 | G49: ='3 Statement Model'!F198 -> 10191.618 | H49: ='3 Statement Model'!G198 -> 10784.391 | I49: ='3 Statement Model'!H198 -> 11443.838 | J49: ='3 Statement Model'!I198 -> 12109.659 | K49: ='3 Statement Model'!J198 -> 12808.269
...

Sheet Valuation Summary
B2: Valuation Summary
B3: Method | D3: Min | E3: Difference | F3: Max | G3: Target | H3: Weight
B4: DCF Perpetuity Growth Method | D4: ='WACC & DCF'!U72 -> 62.195855 | E4: =F4-D4 -> 36.460232 | F4: ='WACC & DCF'!W70 -> 98.656087 | G4: ='WACC & DCF'!D83 -> 70.021011 | H4: 0.4
B5: DCF Exit Multiple | D5: ='WACC & DCF'!U88 -> 69.258544 | E5: =F5-D5 -> 9.0959054 | F5: ='WACC & DCF'!W86 -> 78.354449 | G5: ='WACC & DCF'!D101 -> 68.789622 | H5: 0.4
B6: EV/EBITDA Mulitples | D6: 75.51 | E6: =F6-D6 -> -5.8836281 | F6: =Comps!C24 -> 69.626372 | G6: =F6 -> 69.626372 | H6: 0.2
B7: 52W Range | D7: 58.71 | E7: =F7-D7 -> 14.99 | F7: 73.7
B9: Target Price (Low) | D9: =D4 -> 62.195855
B10: Target Price (Low) upside, % | D10: =(D9-H15)/H15 -> -0.15928825
B11: Target Price (High) | D11: =F4 -> 98.656087
B12: Target Price (High) Upside, % | D12: =(D11-H15)/H15 -> 0.33355079
B14: Target Price | H14: =(G4*H4)+(G5*H5)+(G6*H6) -> 69.449528
B15: Current price | H15: ='WACC & DCF'!D41 -> 73.98
B17: Total Return | H17: =(H14-H15)/H15 -> -0.061239152
I25: Current | $67
I27: Target | $78

Sheet Financial Highlights for Report
B2: WACC | E2: Dividend Growth
E3: 2020 | F3: 2021 | G3: 2022 | H3: 2023 | I3: 2024
B4: Pre-Tax Cost of Debt | C4: ='WACC & DCF'!E8 -> 0.044 | E4: 2.08 | F4: 2.12 | G4: 2.16 | H4: 2.2 | I4: 2.32
B5: Tax Rate | C5: ='WACC & DCF'!F25 -> 0.24401662
B6: After Tax Cost of Debt | C6: =C4*(1-C5) -> 0.033263269 | E6: EBITDA Growth
E7: 2022 | F7: =E7+1 -> 2023 | G7: =F7+1 -> 2024 | H7: =G7+1 -> 2025 | I7: =H7+1 -> 2026 | J7: =I7+1 -> 2027 | K7: =J7+1 -> 2028 | L7: =K7+1 -> 2029
B8: Risk-Free-Rate | C8: ='WACC & DCF'!E6 -> 0.04175 | E8: ='3 Statement Model'!B222 -> 1830 | F8: ='3 Statement Model'!C222 -> 1884 | G8: ='3 Statement Model'!D222 -> 2065 | H8: ='3 Statement Model'!E222 -> 2046 | I8: ='3 Statement Model'!F222 -> 2703.0774 | J8: ='3 Statement Model'!G222 -> 2841.0281 | K8: ='3 Statement Model'!H222 -> 2994.7022 | L8: ='3 Statement Model'!I222 -> 3149.8884
B9: Equity Risk Premium | C9: ='WACC & DCF'!E7 -> 0.05 | E9: ='3 Statement Model'!B223 -> 0.28132206 | F9: ='3 Statement Model'!C223 -> 0.26829963 | G9: ='3 Statement Model'!D223 -> 0.24565786 | H9: ='3 Statement Model'!E223 -> 0.21687513 | I9: ='3 Statement Model'!F223 -> 0.26522553 | J9: ='3 Statement Model'!G223 -> 0.26343889 | K9: ='3 Statement Model'!H223 -> 0.26168686 | L9: ='3 Statement Model'!I223 -> 0.26011372
B10: Levered Beta | C10: ='WACC & DCF'!G25 -> 0.96523657
B11: Cost of Equity | C11: =C8+C9*C10 -> 0.090011829 | E11: Debt/EBITDA
E12: =2022 -> 2022 | F12: =E12+1 -> 2023 | G12: =F12+1 -> 2024 | H12: =G12+1 -> 2025 | I12: =H12+1 -> 2026 | J12: =I12+1 -> 2027 | K12: =J12+1 -> 2028 | L12: =K12+1 -> 2029
B13: Net Debt | C13: ='WACC & DCF'!D25 -> 14516 | E13: =('3 Statement Model'!B241+'3 Statement Model'!B243)/'3 Statement Model'!B222 -> 7.8912568 | F13: =('3 Statement Model'!C241+'3 Statement Model'!C243)/'3 Statement Model'!C222 -> 7.6820594 | G13: =('3 Statement Model'!D241+'3 Statement Model'!D243)/'3 Statement Model'!D222 -> 7.7123487 | H13: =('3 Statement Model'!E241+'3 Statement Model'!E243)/'3 Statement Model'!E222 -> 7.6632454 | I13: =('3 Statement Model'!F241+'3 Statement Model'!F243)/'3 Statement Model'!F222 -> 5.7530724 | J13: =('3 Statement Model'!G241+'3 Statement Model'!G243)/'3 Statement Model'!G222 -> 5.4304286 | K13: =('3 Statement Model'!H241+'3 Statement Model'!H243)/'3 Statement Model'!H222 -> 5.1888132 | L13: =('3 Statement Model'!I241+'3 Statement Model'!I243)/'3 Statement Model'!I222 -> 4.9393655
B14: Equity Value | C14: ='WACC & DCF'!E25 -> 33723.4
B15: WACC | C15: ='WACC & DCF'!G30 -> 0.072935287 | E15: Net Debt/EBITDA
E16: 2022 | F16: =E16+1 -> 2023 | G16: =F16+1 -> 2024 | H16: =G16+1 -> 2025 | I16: =H16+1 -> 2026 | J16: =I16+1 -> 2027 | K16: =J16+1 -> 2028 | L16: =K16+1 -> 2029
E17: =('3 Statement Model'!B241+'3 Statement Model'!B243-'3 Statement Model'!B230)/'3 Statement Model'!B222 -> 7.247541 | F17: =('3 Statement Model'!C241+'3 Statement Model'!C243-'3 Statement Model'!C230)/'3 Statement Model'!C222 -> 7.0774947 | G17: =('3 Statement Model'!D241+'3 Statement Model'!D243-'3 Statement Model'!D230)/'3 Statement Model'!D222 -> 7.0663438 | H17: =('3 Statement Model'!E241+'3 Statement Model'!E243-'3 Statement Model'!E230)/'3 Statement Model'!E222 -> 7.0948192 | I17: =('3 Statement Model'!F241+'3 Statement Model'!F243-'3 Statement Model'!F230)/'3 Statement Model'!F222 -> 5.3424134 | J17: =('3 Statement Model'!G241+'3 Statement Model'!G243-'3 Statement Model'!G230)/'3 Statement Model'!G222 -> 5.0413279 | K17: =('3 Statement Model'!H241+'3 Statement Model'!H243-'3 Statement Model'!H230)/'3 Statement Model'!H222 -> 4.8189562 | L17: =('3 Statement Model'!I241+'3 Statement Model'!I243-'3 Statement Model'!I230)/'3 Statement Model'!I222 -> 4.5005628
E20: Capex
E21: 2020 | F21: =E21+1 -> 2021 | G21: =F21+1 -> 2022 | H21: =G21+1 -> 2023 | I21: =H21+1 -> 2024
E22: =-CF!G25 -> 117 | F22: =-CF!H25 -> 106 | G22: =-CF!I25 -> 100 | H22: =-CF!J25 -> 120 | I22: =-CF!K25 -> 201
E24: Store Count
E25: 2020 | F25: =E25+1 -> 2021 | G25: =F25+1 -> 2022 | H25: =G25+1 -> 2023 | I25: =H25+1 -> 2024 | J25: =I25+1 -> 2025 | K25: =J25+1 -> 2026 | L25: =K25+1 -> 2027 | M25: =L25+1 -> 2028 | N25: =M25+1 -> 2029
E26: ='2024 Segments'!H171 -> 27025 | F26: ='2024 Segments'!I171 -> 29456 | G26: ='2024 Segments'!J171 -> 30722 | H26: ='2024 Segments'!K171 -> 31070 | I26: ='2024 Segments'!L171 -> 32125 | J26: =SUM('3 Statement Model'!E37,'3 Statement Model'!E56,'3 Statement Model'!E74,'3 Statement Model'!E92,'3 Statement Model'!E110,'3 Statement Model'!E127+'3 Statement Model'!E133) -> 34128 | K26: =SUM('3 Statement Model'!F37,'3 Statement Model'!F56,'3 Statement Model'!F74,'3 Statement Model'!F92,'3 Statement Model'!F110,'3 Statement Model'!F127+'3 Statement Model'!F133) -> 35438.82 | L26: =SUM('3 Statement Model'!G37,'3 Statement Model'!G56,'3 Statement Model'!G74,'3 Statement Model'!G92,'3 Statement Model'!G110,'3 Statement Model'!G127+'3 Statement Model'!G133) -> 36870.322 | M26: =SUM('3 Statement Model'!H37,'3 Statement Model'!H56,'3 Statement Model'!H74,'3 Statement Model'!H92,'3 Statement Model'!H110,'3 Statement Model'!H127+'3 Statement Model'!H133) -> 38441.24 | N26: =SUM('3 Statement Model'!I37,'3 Statement Model'!I56,'3 Statement Model'!I74,'3 Statement Model'!I92,'3 Statement Model'!I110,'3 Statement Model'!I127+'3 Statement Model'!I133) -> 39886.017
E28: Interest Coverage
E29: 2020 | F29: =E29+1 -> 2021 | G29: =F29+1 -> 2022 | H29: =G29+1 -> 2023 | I29: =H29+1 -> 2024
E30: =IS!E19/IS!E22 -> 2.8665377 | F30: =IS!F19/IS!F22 -> 3.9330709 | G30: =IS!G19/IS!G22 -> 3.8292683 | H30: =IS!H19/IS!H22 -> 3.6477663 | I30: =IS!I19/IS!I22 -> 3.7227036
E32: Dividend Coverage
E33: 2020 | F33: =E33+1 -> 2021 | G33: =F33+1 -> 2022 | H33: =G33+1 -> 2023 | I33: =H33+1 -> 2024
E34: =IS!E78/IS!E51 -> 1.2925103 | F34: =IS!F78/IS!F51 -> 0.78424821 | G34: =IS!G78/IS!G51 -> 0.65785714 | H34: =IS!H78/IS!H51 -> 0.60826891 | I34: =IS!I78/IS!I51 -> 0.77484819
F37: 2022A | G37: 2023A | H37: 2024A | I37: 2025E | J37: 2026E | K37: 2027E | L37: 2028E | M37: 2029E
E38: Valuations
E39: Gross Margin | F39: ='3 Statement Model'!B201 -> 0.56495004 | G39: ='3 Statement Model'!C201 -> 0.580319 | H39: ='3 Statement Model'!D201 -> 0.51796336 | I39: ='3 Statement Model'!E201 -> 0.48240407 | J39: ='3 Statement Model'!F201 -> 0.48240407 | K39: ='3 Statement Model'!G201 -> 0.48240407 | L39: ='3 Statement Model'!H201 -> 0.48240407 | M39: ='3 Statement Model'!I201 -> 0.48240407
E40: Operating Margin | F40: ='3 Statement Model'!B207 -> 0.31375865 | G40: ='3 Statement Model'!C207 -> 0.30233552 | H40: ='3 Statement Model'!D207 -> 0.25553176 | I40: ='3 Statement Model'!E207 -> 0.21719313 | J40: ='3 Statement Model'!F207 -> 0.23567325 | K40: ='3 Statement Model'!G207 -> 0.23567325 | L40: ='3 Statement Model'!H207 -> 0.23567325 | M40: ='3 Statement Model'!I207 -> 0.23567325
E41: EBITDA Margin | F41: ='3 Statement Model'!B223 -> 0.28132206 | G41: ='3 Statement Model'!C223 -> 0.26829963 | H41: ='3 Statement Model'!D223 -> 0.24565786 | I41: ='3 Statement Model'!E223 -> 0.21687513 | J41: ='3 Statement Model'!F223 -> 0.26522553 | K41: ='3 Statement Model'!G223 -> 0.26343889 | L41: ='3 Statement Model'!H223 -> 0.26168686 | M41: ='3 Statement Model'!I223 -> 0.26011372
E42: Net Profit Margin | F42: ='3 Statement Model'!B220 -> 0.15495772 | G42: ='3 Statement Model'!C220 -> 0.16946739 | H42: ='3 Statement Model'!D220 -> 0.12146086 | I42: ='3 Statement Model'!E220 -> 0.082255671 | J42: ='3 Statement Model'!F220 -> 0.10593638 | K42: ='3 Statement Model'!G220 -> 0.1085022 | L42: ='3 Statement Model'!H220 -> 0.11091458 | M42: ='3 Statement Model'!I220 -> 0.11274636
E43: Return on Assets | F43: =F72/F71 -> 0.04383371 | G43: =G72/G71 -> 0.051585495 | H43: =H72/H71 -> 0.042521292 | I43: =I72/I71 -> 0.030887416 | J43: =J72/J71 -> 0.042147965 | K43: =K72/K71 -> 0.045647917 | L43: =L72/L71 -> 0.049438025 | M43: =M72/M71 -> 0.052799748
E44: Return on Equity | F44: =F79/F78 -> 0.24824529 | G44: =G79/G78 -> 0.26450322 | H44: =H79/H78 -> 0.21330826 | I44: =I79/I78 -> 0.15516897 | J44: =J79/J78 -> 0.20967034 | K44: =K79/K78 -> 0.22679102 | L44: =L79/L78 -> 0.24973142 | M44: =M79/M78 -> 0.26924807
E45: Return on Invested Capital | F45: =F82/F83 -> 0.1264014 | G45: =G82/G83 -> 0.13896122 | H45: =H82/H83 -> 0.088283392 | I45: =I82/I83 -> 0.074272516 | J45: =J82/J83 -> 0.092734007 | K45: =K82/K83 -> 0.098523834 | L45: =L82/L83 -> 0.10500431 | M45: =M82/M83 -> 0.11160282
E46: Liquidity
E47: Current Ratio | F47: =(SUM('3 Statement Model'!B230:B233)/(SUM('3 Statement Model'!B240:B242))) -> 0.96786389 | G47: =(SUM('3 Statement Model'!C230:C233)/(SUM('3 Statement Model'!C240:C242))) -> 1.0135261 | H47: =(SUM('3 Statement Model'!D230:D233)/(SUM('3 Statement Model'!D240:D242))) -> 0.96531303 | I47: =(SUM('3 Statement Model'!E230:E233)/(SUM('3 Statement Model'!E240:E242))) -> 0.97890003 | J47: =(SUM('3 Statement Model'!F230:F233)/(SUM('3 Statement Model'!F240:F242))) -> 0.94045336 | K47: =(SUM('3 Statement Model'!G230:G233)/(SUM('3 Statement Model'!G240:G242))) -> 0.92467121 | L47: =(SUM('3 Statement Model'!H230:H233)/(SUM('3 Statement Model'!H240:H242))) -> 0.90945626 | M47: =(SUM('3 Statement Model'!I230:I233)/(SUM('3 Statement Model'!I240:I242))) -> 0.9754262
E48: Quick Ratio | F48: =(SUM('3 Statement Model'!B230:B233)-'3 Statement Model'!B232)/SUM('3 Statement Model'!B240:B242) -> 0.90500945 | G48: =(SUM('3 Statement Model'!C230:C233)-'3 Statement Model'!C232)/SUM('3 Statement Model'!C240:C242) -> 0.93610075 | H48: =(SUM('3 Statement Model'!D230:D233)-'3 Statement Model'!D232)/SUM('3 Statement Model'!D240:D242) -> 0.90524535 | I48: =(SUM('3 Statement Model'!E230:E233)-'3 Statement Model'!E232)/SUM('3 Statement Model'!E240:E242) -> 0.90799031 | J48: =(SUM('3 Statement Model'!F230:F233)-'3 Statement Model'!F232)/SUM('3 Statement Model'!F240:F242) -> 0.86756014 | K48: =(SUM('3 Statement Model'!G230:G233)-'3 Statement Model'!G232)/SUM('3 Statement Model'!G240:G242) -> 0.85034597 | L48: =(SUM('3 Statement Model'!H230:H233)-'3 Statement Model'!H232)/SUM('3 Statement Model'!H240:H242) -> 0.8337534 | M48: =(SUM('3 Statement Model'!I230:I233)-'3 Statement Model'!I232)/SUM('3 Statement Model'!I240:I242) -> 0.89840465
...

Sheet Share Price Performance
B2: Date | C2: Last Price | O2: Date | P2: QSR | Q2: MCD | R2: YUM | S2: SBUX | T2: CMG | U2: SHAK | V2: WEN | AF2: Date | AG2: QSR | AH2: MCD | AI2: YUM | AJ2: SBUX | AK2: CMG | AL2: SHAK | AM2: WEN | BA2: Date | BB2: QSR | BC2: SPX | BE2: Date | BF2: QSR | BG2: SPX
B3: 46045 | C3: 68.4 | O3: 46045 | P3: 68.4 | Q3: 309.25 | R3: 152.97 | S3: 97.62 | T3: 40.87 | U3: 92.25 | V3: 8.42 | AF3: 46045 | AG3: =(P3-AG$1256)/AG$1256 -> 0.19768867 | AH3: =(Q3-AH$1256)/AH$1256 -> 0.49396135 | AI3: =(R3-AI$1256)/AI$1256 -> 0.49941188 | AJ3: =(S3-AJ$1256)/AJ$1256 -> -0.0025544089 | AK3: =(T3-AK$1256)/AK$1256 -> 0.39358684 | AL3: =(U3-AL$1256)/AL$1256 -> -0.262 | AM3: =(V3-AM$1256)/AM$1256 -> -0.59244918 | BA3: 46045 | BB3: 68.4 | BC3: 6915.61 | BE3: 46045 | BF3: =(BB3-BF$1256)/BF$1256 -> 0.19768867 | BG3: =(BC3-BG$1256)/BG$1256 -> 0.84378408 | BT3: Date | BU3: Dividend Yield
B4: 46044 | C4: 68.55 | O4: 46044 | P4: 68.55 | Q4: 306.03 | R4: 153.53 | S4: 95.83 | T4: 40.54 | U4: 92.59 | V4: 8.43 | AF4: 46044 | AG4: =(P4-AG$1256)/AG$1256 -> 0.20031518 | AH4: =(Q4-AH$1256)/AH$1256 -> 0.4784058 | AI4: =(R4-AI$1256)/AI$1256 -> 0.504901 | AJ4: =(S4-AJ$1256)/AJ$1256 -> -0.020843977 | AK4: =(T4-AK$1256)/AK$1256 -> 0.38233449 | AL4: =(U4-AL$1256)/AL$1256 -> -0.25928 | AM4: =(V4-AM$1256)/AM$1256 -> -0.59196515 | BA4: 46044 | BB4: 68.55 | BC4: 6913.35 | BE4: 46044 | BF4: =(BB4-BF$1256)/BF$1256 -> 0.20031518 | BG4: =(BC4-BG$1256)/BG$1256 -> 0.84318153 | BT4: 46045 | BU4: =BV4/100 -> 0.036257 | BV4: 3.6257
B5: 46043 | C5: 68.02 | O5: 46043 | P5: 68.02 | Q5: 305.69 | R5: 154.41 | S5: 96.43 | T5: 40.72 | U5: 94.81 | V5: 8.36 | AF5: 46043 | AG5: =(P5-AG$1256)/AG$1256 -> 0.19103485 | AH5: =(Q5-AH$1256)/AH$1256 -> 0.47676329 | AI5: =(R5-AI$1256)/AI$1256 -> 0.51352676 | AJ5: =(S5-AJ$1256)/AJ$1256 -> -0.014713395 | AK5: =(T5-AK$1256)/AK$1256 -> 0.38847214 | AL5: =(U5-AL$1256)/AL$1256 -> -0.24152 | AM5: =(V5-AM$1256)/AM$1256 -> -0.59535334 | BA5: 46043 | BB5: 68.02 | BC5: 6875.62 | BE5: 46043 | BF5: =(BB5-BF$1256)/BF$1256 -> 0.19103485 | BG5: =(BC5-BG$1256)/BG$1256 -> 0.83312227 | BT5: 46044 | BU5: =BV5/100 -> 0.036178 | BV5: 3.6178
B6: 46042 | C6: 68.28 | O6: 46042 | P6: 68.28 | Q6: 302.84 | R6: 153.2 | S6: 93.66 | T6: 39 | U6: 97.16 | V6: 8.17 | AF6: 46042 | AG6: =(P6-AG$1256)/AG$1256 -> 0.19558746 | AH6: =(Q6-AH$1256)/AH$1256 -> 0.46299517 | AI6: =(R6-AI$1256)/AI$1256 -> 0.50166634 | AJ6: =(S6-AJ$1256)/AJ$1256 -> -0.043016246 | AK6: =(T6-AK$1256)/AK$1256 -> 0.32982351 | AL6: =(U6-AL$1256)/AL$1256 -> -0.22272 | AM6: =(V6-AM$1256)/AM$1256 -> -0.60454985 | BA6: 46042 | BB6: 68.28 | BC6: 6796.86 | BE6: 46042 | BF6: =(BB6-BF$1256)/BF$1256 -> 0.19558746 | BG6: =(BC6-BG$1256)/BG$1256 -> 0.81212391 | BT6: 46043 | BU6: =BV6/100 -> 0.03646 | BV6: 3.646
B7: 46038 | C7: 68.33 | O7: 46038 | P7: 68.33 | Q7: 307.43 | R7: 160.26 | S7: 92.99 | T7: 39.96 | U7: 99.12 | V7: 8.32 | AF7: 46038 | AG7: =(P7-AG$1256)/AG$1256 -> 0.19646297 | AH7: =(Q7-AH$1256)/AH$1256 -> 0.48516908 | AI7: =(R7-AI$1256)/AI$1256 -> 0.57086846 | AJ7: =(S7-AJ$1256)/AJ$1256 -> -0.049862062 | AK7: =(T7-AK$1256)/AK$1256 -> 0.36255763 | AL7: =(U7-AL$1256)/AL$1256 -> -0.20704 | AM7: =(V7-AM$1256)/AM$1256 -> -0.59728945 | BA7: 46038 | BB7: 68.33 | BC7: 6940.01 | BE7: 46038 | BF7: =(BB7-BF$1256)/BF$1256 -> 0.19646297 | BG7: =(BC7-BG$1256)/BG$1256 -> 0.85028941 | BT7: 46042 | BU7: =BV7/100 -> 0.036321 | BV7: 3.6321
B8: 46037 | C8: 69.53 | O8: 46037 | P8: 69.53 | Q8: 308.62 | R8: 161.05 | S8: 93.28 | T8: 40.36 | U8: 100.77 | V8: 8.54 | AF8: 46037 | AG8: =(P8-AG$1256)/AG$1256 -> 0.21747505 | AH8: =(Q8-AH$1256)/AH$1256 -> 0.49091787 | AI8: =(R8-AI$1256)/AI$1256 -> 0.57861204 | AJ8: =(S8-AJ$1256)/AJ$1256 -> -0.046898948 | AK8: =(T8-AK$1256)/AK$1256 -> 0.37619684 | AL8: =(U8-AL$1256)/AL$1256 -> -0.19384 | AM8: =(V8-AM$1256)/AM$1256 -> -0.58664085 | BA8: 46037 | BB8: 69.53 | BC8: 6944.47 | BE8: 46037 | BF8: =(BB8-BF$1256)/BF$1256 -> 0.21747505 | BG8: =(BC8-BG$1256)/BG$1256 -> 0.8514785 | BT8: 46038 | BU8: =BV8/100 -> 0.036294 | BV8: 3.6294
B9: 46036 | C9: 69.88 | O9: 46036 | P9: 69.88 | Q9: 308.13 | R9: 157.13 | S9: 91.15 | T9: 40.59 | U9: 99.93 | V9: 8.48 | AF9: 46036 | AG9: =(P9-AG$1256)/AG$1256 -> 0.22360357 | AH9: =(Q9-AH$1256)/AH$1256 -> 0.48855072 | AI9: =(R9-AI$1256)/AI$1256 -> 0.5401882 | AJ9: =(S9-AJ$1256)/AJ$1256 -> -0.068662511 | AK9: =(T9-AK$1256)/AK$1256 -> 0.38403939 | AL9: =(U9-AL$1256)/AL$1256 -> -0.20056 | AM9: =(V9-AM$1256)/AM$1256 -> -0.58954501 | BA9: 46036 | BB9: 69.88 | BC9: 6926.6 | BE9: 46036 | BF9: =(BB9-BF$1256)/BF$1256 -> 0.22360357 | BG9: =(BC9-BG$1256)/BG$1256 -> 0.84671414 | BT9: 46037 | BU9: =BV9/100 -> 0.035668 | BV9: 3.5668
B10: 46035 | C10: 69.26 | O10: 46035 | P10: 69.26 | Q10: 309.44 | R10: 156.36 | S10: 90.56 | T10: 39.41 | U10: 98.45 | V10: 8.34 | AF10: 46035 | AG10: =(P10-AG$1256)/AG$1256 -> 0.21274733 | AH10: =(Q10-AH$1256)/AH$1256 -> 0.49487923 | AI10: =(R10-AI$1256)/AI$1256 -> 0.53264066 | AJ10: =(S10-AJ$1256)/AJ$1256 -> -0.074690917 | AK10: =(T10-AK$1256)/AK$1256 -> 0.3438037 | AL10: =(U10-AL$1256)/AL$1256 -> -0.2124 | AM10: =(V10-AM$1256)/AM$1256 -> -0.59632139 | BA10: 46035 | BB10: 69.26 | BC10: 6963.74 | BE10: 46035 | BF10: =(BB10-BF$1256)/BF$1256 -> 0.21274733 | BG10: =(BC10-BG$1256)/BG$1256 -> 0.85661611 | BT10: 46036 | BU10: =BV10/100 -> 0.035489 | BV10: 3.5489
B11: 46034 | C11: 69.52 | O11: 46034 | P11: 69.52 | Q11: 306.75 | R11: 156.92 | S11: 89.96 | T11: 40.34 | U11: 96.72 | V11: 8.5 | AF11: 46034 | AG11: =(P11-AG$1256)/AG$1256 -> 0.21729995 | AH11: =(Q11-AH$1256)/AH$1256 -> 0.48188406 | AI11: =(R11-AI$1256)/AI$1256 -> 0.53812978 | AJ11: =(S11-AJ$1256)/AJ$1256 -> -0.080821498 | AK11: =(T11-AK$1256)/AK$1256 -> 0.37551488 | AL11: =(U11-AL$1256)/AL$1256 -> -0.22624 | AM11: =(V11-AM$1256)/AM$1256 -> -0.58857696 | BA11: 46034 | BB11: 69.52 | BC11: 6977.27 | BE11: 46034 | BF11: =(BB11-BF$1256)/BF$1256 -> 0.21729995 | BG11: =(BC11-BG$1256)/BG$1256 -> 0.86022337 | BT11: 46035 | BU11: =BV11/100 -> 0.035807 | BV11: 3.5807
B12: 46031 | C12: 69 | O12: 46031 | P12: 69 | Q12: 307.32 | R12: 155.52 | S12: 88.88 | T12: 40.11 | U12: 93.29 | V12: 8.65 | AF12: 46031 | AG12: =(P12-AG$1256)/AG$1256 -> 0.20819471 | AH12: =(Q12-AH$1256)/AH$1256 -> 0.48463768 | AI12: =(R12-AI$1256)/AI$1256 -> 0.52440698 | AJ12: =(S12-AJ$1256)/AJ$1256 -> -0.091856544 | AK12: =(T12-AK$1256)/AK$1256 -> 0.36767233 | AL12: =(U12-AL$1256)/AL$1256 -> -0.25368 | AM12: =(V12-AM$1256)/AM$1256 -> -0.58131655 | BA12: 46031 | BB12: 69 | BC12: 6966.28 | BE12: 46031 | BF12: =(BB12-BF$1256)/BF$1256 -> 0.20819471 | BG12: =(BC12-BG$1256)/BG$1256 -> 0.8572933 | BT12: 46034 | BU12: =BV12/100 -> 0.035673 | BV12: 3.5673
B13: 46030 | C13: 68.66 | O13: 46030 | P13: 68.66 | Q13: 308.88 | R13: 153.48 | S13: 88.18 | T13: 39.18 | U13: 91.8 | V13: 8.38 | AF13: 46030 | AG13: =(P13-AG$1256)/AG$1256 -> 0.20224129 | AH13: =(Q13-AH$1256)/AH$1256 -> 0.49217391 | AI13: =(R13-AI$1256)/AI$1256 -> 0.5044109 | AJ13: =(S13-AJ$1256)/AJ$1256 -> -0.099008889 | AK13: =(T13-AK$1256)/AK$1256 -> 0.33596116 | AL13: =(U13-AL$1256)/AL$1256 -> -0.2656 | AM13: =(V13-AM$1256)/AM$1256 -> -0.59438529 | BA13: 46030 | BB13: 68.66 | BC13: 6921.46 | BE13: 46030 | BF13: =(BB13-BF$1256)/BF$1256 -> 0.20224129 | BG13: =(BC13-BG$1256)/BG$1256 -> 0.84534376 | BT13: 46031 | BU13: =BV13/100 -> 0.035942 | BV13: 3.5942
B14: 46029 | C14: 67.46 | O14: 46029 | P14: 67.46 | Q14: 304.16 | R14: 150.49 | S14: 86.69 | T14: 38.87 | U14: 90.55 | V14: 8.22 | AF14: 46029 | AG14: =(P14-AG$1256)/AG$1256 -> 0.18122921 | AH14: =(Q14-AH$1256)/AH$1256 -> 0.46937198 | AI14: =(R14-AI$1256)/AI$1256 -> 0.47510292 | AJ14: =(S14-AJ$1256)/AJ$1256 -> -0.11423317 | AK14: =(T14-AK$1256)/AK$1256 -> 0.32539076 | AL14: =(U14-AL$1256)/AL$1256 -> -0.2756 | AM14: =(V14-AM$1256)/AM$1256 -> -0.60212972 | BA14: 46029 | BB14: 67.46 | BC14: 6920.93 | BE14: 46029 | BF14: =(BB14-BF$1256)/BF$1256 -> 0.18122921 | BG14: =(BC14-BG$1256)/BG$1256 -> 0.84520245 | BT14: 46030 | BU14: =BV14/100 -> 0.03612 | BV14: 3.612
B15: 46028 | C15: 67.68 | O15: 46028 | P15: 67.68 | Q15: 302.77 | R15: 151.41 | S15: 89.46 | T15: 38.62 | U15: 89.82 | V15: 8.44 | AF15: 46028 | AG15: =(P15-AG$1256)/AG$1256 -> 0.18508142 | AH15: =(Q15-AH$1256)/AH$1256 -> 0.462657 | AI15: =(R15-AI$1256)/AI$1256 -> 0.48412076 | AJ15: =(S15-AJ$1256)/AJ$1256 -> -0.085930316 | AK15: =(T15-AK$1256)/AK$1256 -> 0.31686625 | AL15: =(U15-AL$1256)/AL$1256 -> -0.28144 | AM15: =(V15-AM$1256)/AM$1256 -> -0.59148112 | BA15: 46028 | BB15: 67.68 | BC15: 6944.82 | BE15: 46028 | BF15: =(BB15-BF$1256)/BF$1256 -> 0.18508142 | BG15: =(BC15-BG$1256)/BG$1256 -> 0.85157181 | BT15: 46029 | BU15: =BV15/100 -> 0.036763 | BV15: 3.6763
... B1255: 44224 | C1255: 58.56 | O1255: 44224 | P1255: 58.56 | Q1255: 206.82 | R1255: 102.53 | S1255: 98.15 | T1255: 29.6108 | U1255: 116.14 | V1255: 20.63 | AF1255: 44224 | AG1255: =(P1255-AG$1256)/AG$1256 -> 0.025389599 | AH1255: =(Q1255-AH$1256)/AH$1256 -> -0.00086956522 | AI1255: =(R1255-AI$1256)/AI$1256 -> 0.0049990198 | AJ1255: =(S1255-AJ$1256)/AJ$1256 -> 0.002860938 | AK1255: =(T1255-AK$1256)/AK$1256 -> 0.0096702038 | AL1255: =(U1255-AL$1256)/AL$1256 -> -0.07088 | AM1255: =(V1255-AM$1256)/AM$1256 -> -0.0014520813 | BA1255: 44224 | BB1255: 58.56 | BC1255: 3787.38 | BE1255: 44224 | BF1255: =(BB1255-BF$1256)/BF$1256 -> 0.025389599 | BG1255: =(BC1255-BG$1256)/BG$1256 -> 0.0097606625 | BT1255: 44225 | BU1255: =BV1255/100 -> 0.036049 | BV1255: 3.6049
B1256: 44223 | C1256: 57.11 | O1256: 44223 | P1256: 57.11 | Q1256: 207 | R1256: 102.02 | S1256: 97.87 | T1256: 29.3272 | U1256: 125 | V1256: 20.66 | AF1256: 44223 | AG1256: 57.11 | AH1256: 207 | AI1256: 102.02 | AJ1256: 97.87 | AK1256: 29.3272 | AL1256: 125 | AM1256: 20.66 | BA1256: 44223 | BB1256: 57.11 | BC1256: 3750.77 | BE1256: 44223 | BF1256: 57.11 | BG1256: 3750.77 | BT1256: 44224 | BU1256: =BV1256/100 -> 0.035519 | BV1256: 3.5519
BA1257: 44222 | BB1257: 59.7 | BC1257: 3849.62 | BT1257: 44223 | BU1257: =BV1257/100 -> 0.036421 | BV1257: 3.6421
BT1258: 44222 | BU1258: =BV1258/100 -> 0.034841 | BV1258: 3.4841
BT1259: 44221 | BU1259: =BV1259/100 -> 0.035218 | BV1259: 3.5218
BT1260: 44218 | BU1260: =BV1260/100 -> 0.034621 | BV1260: 3.4621
BT1261: 44217 | BU1261: =BV1261/100 -> 0.034329 | BV1261: 3.4329
BT1262: 44216 | BU1262: =BV1262/100 -> 0.033948 | BV1262: 3.3948
BT1263: 44215 | BU1263: =BV1263/100 -> 0.033673 | BV1263: 3.3673
BT1264: 44211 | BU1264: =BV1264/100 -> 0.033063 | BV1264: 3.3063
BT1265: 44210 | BU1265: =BV1265/100 -> 0.032379 | BV1265: 3.2379
BT1266: 44209 | BU1266: =BV1266/100 -> 0.032922 | BV1266: 3.2922
BT1267: 44208 | BU1267: =BV1267/100 -> 0.0332 | BV1267: 3.32
BT1268: 44207 | BU1268: =BV1268/100 -> 0.03288 | BV1268: 3.288
BT1269: 44204 | BU1269: =BV1269/100 -> 0.032429 | BV1269: 3.2429
... BT1273: 44200 | BU1273: =BV1273/100 -> 0.035023 | BV1273: 3.5023

Sheet IS
A2: Restaurant Brands International Inc (QSR CN) - BBG Adjusted
A4: In Millions of USD except Per Share | C4: FY 2018 | D4: FY 2019 | E4: FY 2020 | F4: FY 2021 | G4: FY 2022 | H4: FY 2023 | I4: FY 2024 | J4: FY 2025 | K4: FY 2026 Est
A5: 12 Months Ending | C5: 12/31/2018 | D5: 12/31/2019 | E5: 12/31/2020 | F5: 12/31/2021 | G5: 12/31/2022 | H5: 12/31/2023 | I5: 12/31/2024 | J5: 12/31/2025 | K5: 12/31/2026
A6: Revenue | B6: SALES_REV_TURN | C6: 5357 | D6: 5603 | E6: 4968 | F6: 5739 | G6: 6505 | H6: 7022 | I6: 8406 | J6: 9434 | K6: 9727.6774
A7: + Sales & Services Revenue | B7: IS_SALES_AND_SERVICES_REVENUES | C7: 5357 | D7: 5603 | E7: 4968 | F7: 5739 | G7: 6505 | H7: 7022 | I7: 8406 | J7: 9434
A8: - Cost of Revenue | B8: IS_COGS_TO_FE_AND_PP_AND_G | C8: 2240 | D8: 2353 | E8: 2138 | F8: 2379 | G8: 2830 | H8: 2947 | I8: 4052 | J8: 4883
A9: + Cost of Goods & Services | B9: IS_COG_AND_SERVICES_SOLD | C9: 2240 | D9: 2353 | E9: 2138 | F9: 2379 | G9: 2830 | H9: 2947 | I9: 4052 | J9: 4883
A10: Gross Profit | B10: GROSS_PROFIT | C10: 3117 | D10: 3250 | E10: 2830 | F10: 3360 | G10: 3675 | H10: 4075 | I10: 4354 | J10: 4551 | K10: 4932.127
A11: + Other Operating Income | B11: IS_OTHER_OPER_INC | C11: 0 | D11: 0 | E11: 0 | F11: 0 | G11: 0 | H11: 0 | I11: 0 | J11: 0
A12: - Operating Expenses | B12: IS_OPERATING_EXPN | C12: 1137 | D12: 1201 | E12: 1348 | F12: 1362 | G12: 1634 | H12: 1952 | I12: 2206 | J12: 2502
A13: + Selling, General & Admin | B13: IS_SGA_EXPENSE | C13: 1139 | D13: 1208 | E13: 1229 | F13: 1416 | G13: 1613 | H13: 1920 | I13: 2043 | J13: 2099
A14: + Selling & Marketing | B14: IS_SELLING_EXPENSES | C14: — | D14: — | E14: — | F14: 962 | G14: 1077 | H14: 1273 | I14: 1330 | J14: 1358
A15: + General & Administrative | B15: IS_GENERAL_AND_ADMINISTRATIVE | C15: — | D15: — | E15: — | F15: 454 | G15: 536 | H15: 647 | I15: 713 | J15: 741
A16: + Research & Development | B16: IS_OPERATING_EXPENSES_RD | C16: 0 | D16: 0 | E16: 0 | F16: 0 | G16: 0 | H16: 0 | I16: 0 | J16: 0
A17: + Depreciation & Amortization | B17: IS_DEPRECIATION_AND_AMORTIZATION | C17: 20 | D17: 19 | E17: 19 | F17: 20 | G17: 25 | H17: 0 | I17: 0 | J17: 0
A18: + Other Operating Expense | B18: IS_OTHER_OPERATING_EXPENSES | C18: -22 | D18: -26 | E18: 100 | F18: -74 | G18: -4 | H18: 32 | I18: 163 | J18: 403
A19: Operating Income (Loss) | B19: IS_OPER_INC | C19: 1980 | D19: 2049 | E19: 1482 | F19: 1998 | G19: 2041 | H19: 2123 | I19: 2148 | J19: 2049 | K19: 2712.5
A20: - Non-Operating (Income) Loss | B20: IS_NONOP_INCOME_LOSS | C20: 513 | D20: 521 | E20: 547 | F20: 509 | G20: 577 | H20: 574 | I20: 508 | J20: 505
A21: + Interest Expense, Net | B21: IS_NET_INTEREST_EXPENSE | C21: 535 | D21: 532 | E21: 508 | F21: 505 | G21: 533 | H21: 582 | I21: 577 | J21: 516
A22: + Interest Expense | B22: IS_INT_EXPENSE | C22: 550 | D22: 552 | E22: 517 | F22: 508 | G22: 533 | H22: 582 | I22: 577 | J22: 547
A23: - Interest Income | B23: IS_INT_INC | C23: 15 | D23: 20 | E23: 9 | F23: 3 | G23: 0 | H23: 0 | I23: 0 | J23: 31
A24: + Foreign Exch (Gain) Loss | B24: IS_FOREIGN_EXCH_LOSS | C24: -33 | D24: -15 | E24: 100 | F24: -76 | G24: -4 | H24: 20 | I24: -71 | J24: 209
A25: + (Income) Loss from Affiliates | B25: INCOME_LOSS_FROM_AFFILIATES | C25: -22 | D25: -11 | E25: 39 | F25: 4 | G25: 44 | H25: -8 | I25: -69 | J25: -11
A26: + Other Non-Op (Income) Loss | B26: IS_OTHER_NON_OPERATING_INC_LOSS | C26: 33 | D26: 15 | E26: -100 | F26: 76 | G26: 4 | H26: -20 | I26: 71 | J26: -209
A27: Pretax Income (Loss), Adjusted | B27: PRETAX_INC | C27: 1467 | D27: 1528 | E27: 935 | F27: 1489 | G27: 1464 | H27: 1549 | I27: 1640 | J27: 1544 | K27: 2235.542
A28: - Abnormal Losses (Gains) | B28: IS_ABNORMAL_ITEM | C28: 85 | D28: 76 | E28: 119 | F28: 126 | G28: 99 | H28: 96 | I28: -169 | J28: -140
A29: + Merger/Acquisition Expense | B29: IS_MERGER_ACQUISITION_EXPENSE | C29: 10 | D29: — | E29: — | F29: 18 | G29: 24 | H29: 19 | I29: 22 | J29: 37
A30: + Abnormal Derivatives | B30: IS_DERIVATIVES_HEDGING | C30: — | D30: — | E30: — | F30: — | G30: — | H30: — | I30: -191 | J30: -198
A31: + Disposal of Assets | B31: IS_GAIN_LOSS_DISPOSAL_ASSETS | C31: 19 | D31: 7 | E31: — | F31: — | G31: 4 | H31: — | I31: — | J31: —
A32: + Early Extinguishment of Debt | B32: IS_G_L_ON_EXT_DBT_OR_SETTLE_DBT | C32: — | D32: 23 | E32: 98 | F32: 11 | G32: — | H32: 16 | I32: 33 | J32: 2
A33: + Gain/Loss on Sale/Acquisition of Business | B33: IS_SALE_OF_BUSINESS | C33: — | D33: 11 | E33: — | F33: — | G33: — | H33: — | I33: — | J33: —
A34: + Legal Settlement | B34: IS_LEGAL_LITIGATION_SETTLEMENT | C34: 11 | D34: 2 | E34: 7 | F34: 81 | G34: 11 | H34: 1 | I34: — | J34: —
A35: + Restructuring | B35: IS_RESTRUCTURING_EXPENSES | C35: 25 | D35: 31 | E35: 16 | F35: 16 | G35: 46 | H35: 38 | I35: 20 | J35: 14
A36: + Sale of Investments | B36: IS_GAIN_LOSS_ON_INVESTMENTS | C36: — | D36: — | E36: — | F36: — | G36: — | H36: 6 | I36: -53 | J36: 5
A37: + Other Abnormal Items | B37: IS_OTHER_ONE_TIME_ITEMS | C37: 20 | D37: 2 | E37: -2 | F37: — | G37: 14 | H37: 16 | I37: — | J37: —
A38: Pretax Income (Loss), GAAP | B38: PRETAX_INC | C38: 1382 | D38: 1452 | E38: 816 | F38: 1363 | G38: 1365 | H38: 1453 | I38: 1809 | J38: 1684 | K38: 2235.542
A39: - Income Tax Expense (Benefit) | B39: IS_INC_TAX_EXP | C39: 238 | D39: 341 | E39: 66 | F39: 110 | G39: -117 | H39: -265 | I39: 364 | J39: 483
A40: + Current Income Tax | B40: IS_CURRENT_INCOME_TAX_BENEFIT | C40: 209 | D40: 283 | E40: 274 | F40: 115 | G40: -57 | H40: 165 | I40: 369 | J40: 386
A41: + Deferred Income Tax | B41: IS_DEFERRED_INCOME_TAX_BENEFIT | C41: 29 | D41: 58 | E41: -208 | F41: -5 | G41: -60 | H41: -430 | I41: -5 | J41: 97
A42: Income (Loss) from Cont Ops | B42: IS_INC_BEF_XO_ITEM | C42: 1144 | D42: 1111 | E42: 750 | F42: 1253 | G42: 1482 | H42: 1718 | I42: 1445 | J42: 1201 | K42: 1552.143
...

Sheet BS
A2: Restaurant Brands International Inc (QSR CN) - Standardized
A4: In Millions of USD except Per Share | C4: FY 2015 | D4: FY 2016 | E4: FY 2017 | F4: FY 2018 | G4: FY 2019 | H4: FY 2020 | I4: FY 2021 | J4: FY 2022 | K4: FY 2023 | L4: FY 2024 | M4: FY 2025
A5: 12 Months Ending | C5: 12/31/2015 | D5: 12/31/2016 | E5: 12/31/2017 | F5: 12/31/2018 | G5: 12/31/2019 | H5: 12/31/2020 | I5: 12/31/2021 | J5: 12/31/2022 | K5: 12/31/2023 | L5: 12/31/2024 | M5: 12/31/2025
A6: Total Assets
A7: + Cash, Cash Equivalents & STI | B7: CASH_CASH_EQTY_STI_DETAILED | C7: 757.8 | D7: 1460.4 | E7: 1073.4 | F7: 913 | G7: 1533 | H7: 1560 | I7: 1087 | J7: 1178 | K7: 1139 | L7: 1334 | M7: 1163
A8: + Cash & Cash Equivalents | B8: BS_CASH_NEAR_CASH_ITEM | C8: 757.8 | D8: 1460.4 | E8: 1073.4 | F8: 913 | G8: 1533 | H8: 1560 | I8: 1087 | J8: 1178 | K8: 1139 | L8: 1334 | M8: 1163
A9: + ST Investments | B9: BS_MKT_SEC_OTHER_ST_INVEST | C9: 0 | D9: 0 | E9: 0 | F9: 0 | G9: 0 | H9: 0 | I9: 0 | J9: 0 | K9: 0 | L9: 0 | M9: 0
A10: + Accounts & Notes Receiv | B10: BS_ACCT_NOTE_RCV | C10: 422 | D10: 403.5 | E10: 455.9 | F10: 452 | G10: 527 | H10: 536 | I10: 547 | J10: 614 | K10: 749 | L10: 698 | M10: 794
A11: + Inventories | B11: BS_INVENTORIES | C11: 81.3 | D11: 71.8 | E11: 78 | F11: 75 | G11: 84 | H11: 96 | I11: 96 | J11: 133 | K11: 166 | L11: 142 | M11: 205
A12: + Raw Materials | B12: INVTRY_RAW_MATERIALS | C12: 22.7 | D12: — | E12: — | F12: — | G12: — | H12: — | I12: — | J12: — | K12: — | L12: — | M12: —
A13: + Work In Process | B13: INVTRY_IN_PROGRESS | C13: 0 | D13: — | E13: — | F13: — | G13: — | H13: — | I13: — | J13: — | K13: — | L13: — | M13: —
A14: + Finished Goods | B14: INVTRY_FINISHED_GOODS | C14: 58.6 | D14: — | E14: — | F14: — | G14: — | H14: — | I14: — | J14: — | K14: — | L14: — | M14: —
A15: + Other Inventory | B15: BS_OTHER_INV | C15: 0 | D15: — | E15: — | F15: — | G15: — | H15: — | I15: — | J15: — | K15: — | L15: — | M15: —
A16: + Other ST Assets | B16: OTHER_CURRENT_ASSETS_DETAILED | C16: 108.4 | D16: 161.3 | E16: 142.3 | F16: 60 | G16: 52 | H16: 72 | I16: 86 | J16: 123 | K16: 119 | L16: 108 | M16: 668
A17: + Prepaid Expenses | B17: BS_PREPAY | C17: 50.9 | D17: — | E17: — | F17: — | G17: — | H17: — | I17: — | J17: — | K17: — | L17: — | M17: —
A18: + Derivative & Hedging Assets | B18: BS_DERIV_HEDGING_ASST_ST | C18: 0 | D18: 0 | E18: 0 | F18: 0 | G18: 0 | H18: 0 | I18: 0 | J18: 0 | K18: 0 | L18: 0 | M18: 0
A19: + Assets Held-for-Sale | M19: 489
A20: + Deferred Tax Assets | B20: BS_DEFERRED_TAX_ASSETS_ST | C20: 0 | D20: 103.6 | E20: 0 | F20: — | G20: — | H20: — | I20: — | J20: — | K20: — | L20: — | M20: —
A21: + Misc ST Assets | B21: BS_OTHER_CUR_ASSET_LESS_PREPAY | C21: 57.5 | D21: 57.7 | E21: 142.3 | F21: 60 | G21: 52 | H21: 72 | I21: 86 | J21: 123 | K21: 119 | L21: 108 | M21: 179
A22: Total Current Assets | B22: BS_CUR_ASSET_REPORT | C22: 1369.5 | D22: 2097 | E22: 1749.6 | F22: 1500 | G22: 2196 | H22: 2264 | I22: 1816 | J22: 2048 | K22: 2173 | L22: 2282 | M22: 2830
A23: + Property, Plant & Equip, Net | B23: BS_NET_FIX_ASSET | C23: 2150.6 | D23: 2054.7 | E23: 2133.3 | F23: 1996 | G23: 3183 | H23: 3183 | I23: 3165 | J23: 3032 | K23: 3074 | L23: 4088 | M23: 4264
A24: + Property, Plant & Equip | B24: BS_GROSS_FIX_ASSET | C24: 2489.9 | D24: 2529.2 | E24: 2756.6 | F24: 2700 | G24: 3929 | H24: 4062 | I24: 4144 | J24: 4093 | K24: 4261 | L24: 5175 | M24: 5509
A25: - Accumulated Depreciation | B25: BS_ACCUM_DEPR | C25: 339.3 | D25: 474.5 | E25: 623.3 | F25: 704 | G25: 746 | H25: 879 | I25: 979 | J25: 1061 | K25: 1187 | L25: 1087 | M25: 1245
A26: + LT Investments & Receivables | B26: BS_LT_INVEST | C26: 139 | D26: 151.1 | E26: 226.4 | F26: 313 | G26: 48 | H26: 66 | I26: 80 | J26: 82 | K26: 0 | L26: 0 | M26: 0
A27: + LT Investments | B27: BS_LONG_TERM_INVESTMENTS | C27: 139 | D27: 151.1 | E27: 226.4 | F27: 313 | G27: 48 | H27: 66 | I27: 80 | J27: 82 | K27: — | L27: — | M27: —
A28: + Other LT Assets | B28: BS_OTHER_ASSETS_DEF_CHRG_OTHER | C28: 14752 | D28: 14822.1 | E28: 17114.2 | F28: 16332 | G28: 16933 | H28: 17264 | I28: 18185 | J28: 17584 | K28: 18144 | L28: 18262 | M28: 18521
A29: + Total Intangible Assets | B29: BS_DISCLOSED_INTANGIBLES | C29: 13722.2 | D29: 13903.1 | E29: 16844.5 | F29: 15949 | G29: 16214 | H29: 16440 | I29: 17423 | J29: 16679 | K29: 16882 | L29: 16908 | M29: 17496
A30: + Goodwill | B30: BS_GOODWILL | C30: 4574.4 | D30: 4675.1 | E30: 5782.3 | F30: 5486 | G30: 5651 | H30: 5739 | I30: 6006 | J30: 5688 | K30: 5775 | L30: 5986 | M30: 6306
A31: + Other Intangible Assets | B31: OTHER_INTANGIBLE_ASSETS_DETAILED | C31: 9147.8 | D31: 9228 | E31: 11062.2 | F31: 10463 | G31: 10563 | H31: 10701 | I31: 11417 | J31: 10991 | K31: 11107 | L31: 10922 | M31: 11190
A32: + Derivative & Hedging Assets | B32: BS_DERIV_HEDGING_ASST_LT | C32: 830.9 | D32: 717.9 | E32: 0 | F32: 58 | G32: 29 | H32: 0 | I32: 25 | J32: 365 | K32: 197 | L32: 286 | M32: 66
A33: + Misc LT Assets | B33: OTHER_NONCURRENT_ASSETS_DETAILED | C33: 198.9 | D33: 201.1 | E33: 269.7 | F33: 325 | G33: 690 | H33: 824 | I33: 737 | J33: 540 | K33: 1065 | L33: 1068 | M33: 959
A34: Total Noncurrent Assets | B34: BS_TOT_NON_CUR_ASSET | C34: 17041.6 | D34: 17027.9 | E34: 19473.9 | F34: 18641 | G34: 20164 | H34: 20513 | I34: 21430 | J34: 20698 | K34: 21218 | L34: 22350 | M34: 22785
A35: Total Assets | B35: BS_TOT_ASSET | C35: 18411.1 | D35: 19124.9 | E35: 21223.5 | F35: 20141 | G35: 22360 | H35: 22777 | I35: 23246 | J35: 22746 | K35: 23391 | L35: 24632 | M35: 25615
A37: Liabilities & Shareholders' Equity
A38: + Payables & Accruals | B38: ACCT_PAYABLE_ACCRUALS_DETAILED | C38: 814.5 | D38: 784.4 | E38: 1208.2 | F38: 1123 | G38: 1271 | H38: 1115 | I38: 1373 | J38: 1579 | K38: 1571 | L38: 1642 | M38: 1860
A39: + Accounts Payable | B39: BS_ACCT_PAYABLE | C39: 361.5 | D39: 369.8 | E39: 412.9 | F39: 513 | G39: 644 | H39: 464 | I39: 614 | J39: — | K39: — | L39: — | M39: —
A40: + Accrued Taxes | B40: BS_TAXES_PAYABLE | C40: 46.9 | D40: 43.3 | E40: 401 | F40: 113 | G40: 126 | H40: 122 | I40: 106 | J40: 190 | K40: 187 | L40: 263 | M40: 232
A41: + Interest & Dividends Payable | B41: INTEREST_DIVIDENDS_PAYABLE | C41: 191.4 | D41: 209.4 | E41: 185.5 | F41: 294 | G41: 303 | H41: 305 | I41: 304 | J41: 332 | K41: 18 | L41: 16 | M41: 25
A42: + Other Payables & Accruals | B42: BS_ACCRUAL | C42: 214.7 | D42: 161.9 | E42: 208.8 | F42: 203 | G42: 198 | H42: 224 | I42: 349 | J42: 1057 | K42: 1366 | L42: 1363 | M42: 1603
A43: + ST Debt | B43: BS_ST_BORROW | C43: 56.1 | D43: 93.9 | E43: 78.2 | F43: 91 | G43: 227 | H43: 248 | I43: 236 | J43: 264 | K43: 248 | L43: 415 | M43: 268
...

Sheet CF
A2: Restaurant Brands International Inc (QSR CN) - Standardized
A4: In Millions of USD except Per Share | C4: FY 2016 | D4: FY 2017 | E4: FY 2018 | F4: FY 2019 | G4: FY 2020 | H4: FY 2021 | I4: FY 2022 | J4: FY 2023 | K4: FY 2024 | L4: FY 2025
A5: 12 Months Ending | C5: 12/31/2016 | D5: 12/31/2017 | E5: 12/31/2018 | F5: 12/31/2019 | G5: 12/31/2020 | H5: 12/31/2021 | I5: 12/31/2022 | J5: 12/31/2023 | K5: 12/31/2024 | L5: 12/31/2025
A6: Cash from Operating Activities
A7: + Net Income | B7: CF_NET_INC | C7: 615.6 | D7: 648.8 | E7: 612 | F7: 643 | G7: 486 | H7: 838 | I7: 1008 | J7: 1190 | K7: 1021 | L7: 776
A8: + Depreciation & Amortization | B8: CF_DEPR_AMORT | C8: 172.1 | D8: 182 | E8: 180 | F8: 185 | G8: 189 | H8: 201 | I8: 190 | J8: 191 | K8: 264 | L8: 301
A9: + Non-Cash Items | B9: NON_CASH_ITEMS_DETAILED | C9: 473.2 | D9: 197.2 | E9: 539 | F9: 655 | G9: 453 | H9: 451 | I9: 257 | J9: 101 | K9: 248 | L9: 585
A10: + Stock-Based Compensation | B10: CF_STOCK_BASED_COMPENSATION | C10: 35.1 | D10: 48 | E10: 48 | F10: 68 | G10: 74 | H10: 102 | I10: 136 | J10: 194 | K10: 172 | L10: 151
A11: + Deferred Income Taxes | B11: CF_DEF_INC_TAX | C11: 80.1 | D11: -742 | E11: 29 | F11: 58 | G11: -208 | H11: -5 | I11: -60 | J11: -430 | K11: -5 | L11: 97
A12: + Other Non-Cash Adj | B12: OTHER_NON_CASH_ADJ_LESS_DETAILED | C12: 358 | D12: 891.2 | E12: 462 | F12: 529 | G12: 587 | H12: 354 | I12: 181 | J12: 337 | K12: 81 | L12: 337
A13: + Chg in Non-Cash Work Cap | B13: CF_CHNG_NON_CASH_WORK_CAP | C13: 8.1 | D13: 363 | E13: -166 | F13: -7 | G13: -207 | H13: 236 | I13: 35 | J13: -159 | K13: -30 | L13: -74
A14: + (Inc) Dec in Inventories | B14: CF_CHANGE_IN_INVENTORIES | C14: 7.7 | D14: 19 | E14: -7 | F14: -15 | G14: -10 | H14: 12 | I14: -61 | J14: -43 | K14: 30 | L14: -67
A15: + Inc (Dec) in Accts Payable | B15: CF_CHANGE_IN_ACCOUNTS_PAYABLE | C15: 27.5 | D15: 14 | E15: 41 | F15: 112 | G15: -183 | H15: 149 | I15: 169 | J15: 22 | K15: -30 | L15: 89
A16: + Inc (Dec) in Other | B16: INC_DEC_IN_OT_OP_AST_LIAB_DETAIL | C16: -27.1 | D16: 330 | E16: -200 | F16: -104 | G16: -14 | H16: 75 | I16: -73 | J16: -138 | K16: -30 | L16: -96
A17: + Net Cash From Disc Ops | B17: CF_NET_CASH_DISCONT_OPS_OPER | C17: 0 | D17: 0 | E17: 0 | F17: 0 | G17: 0 | H17: 0 | I17: 0 | J17: 0 | K17: 0 | L17: 126
A18: Cash from Operating Activities | B18: CF_CASH_FROM_OPER | C18: 1269 | D18: 1391 | E18: 1165 | F18: 1476 | G18: 921 | H18: 1726 | I18: 1490 | J18: 1323 | K18: 1503 | L18: 1714
A20: Cash from Investing Activities
A21: + Change in Fixed & Intang | B21: FIXED_INTANG_ASST_CHANGE | C21: -3.7 | D21: -11 | E21: -78 | F21: -54 | G21: -105 | H21: -90 | I21: -88 | J21: -83 | K21: -167 | L21: -227
A22: + Disp in Fixed & Intang | B22: DISPOSAL_OF_FIXED_INTANG | C22: 30 | D22: 26 | E22: 8 | F22: 8 | G22: 12 | H22: 16 | I22: 12 | J22: 37 | K22: 34 | L22: 38
A23: + Disp of Fixed Prod Assets | B23: CF_DISPOSAL_OF_FIXED_PROD_ASSETS | C23: 30 | D23: 26 | E23: 8 | F23: 8 | G23: 12 | H23: 16 | I23: 12 | J23: 37 | K23: 34 | L23: 38
A24: + Disp of Intangible Assets | B24: CF_DISPOSAL_OF_INTANGIBLE_ASSETS | C24: 0 | D24: 0 | E24: 0 | F24: 0 | G24: 0 | H24: 0 | I24: 0 | J24: 0 | K24: 0 | L24: 0
A25: + Acq of Fixed & Intang | B25: ACQUIS_OF_FIXED_INTANG | C25: -33.7 | D25: -37 | E25: -86 | F25: -62 | G25: -117 | H25: -106 | I25: -100 | J25: -120 | K25: -201 | L25: -265
A26: + Acq of Fixed Prod Assets | B26: CF_PURCHASE_OF_FIXED_PROD_ASSETS | C26: -33.7 | D26: -37 | E26: -86 | F26: -62 | G26: -117 | H26: -106 | I26: -100 | J26: -120 | K26: -201 | L26: -265
A27: + Acq of Intangible Assets | B27: CF_ACQUISITION_OF_INTANG_ASSETS | C27: 0 | D27: 0 | E27: 0 | F27: 0 | G27: 0 | H27: 0 | I27: 0 | J27: 0 | K27: 0 | L27: 0
A28: + Net Change in LT Investment | B28: NET_CHG_IN_LT_INVEST_DETAILED | C28: 0 | D28: 0 | E28: 0 | F28: 0 | G28: 0 | H28: 0 | I28: 0 | J28: 0 | K28: 0 | L28: 0
A29: + Dec in LT Investment | B29: CF_DECR_INVEST | C29: 0 | D29: 0 | E29: 0 | F29: 0 | G29: 0 | H29: 0 | I29: 0 | J29: 0 | K29: 0 | L29: 0
A30: + Inc in LT Investment | B30: CF_INCR_INVEST | C30: 0 | D30: 0 | E30: 0 | F30: 0 | G30: 0 | H30: 0 | I30: 0 | J30: 0 | K30: 0 | L30: 0
A31: + Net Cash From Acq & Div | B31: CF_NT_CSH_RCVD_PD_FOR_ACQUIS_DIV | C31: 0 | D31: -1636 | E31: 0 | F31: 0 | G31: 0 | H31: 0 | I31: 0 | J31: 0 | K31: 0 | L31: 0
A32: + Cash from Divestitures | B32: CF_CASH_FOR_DIVESTITURES | C32: 0 | D32: 0 | E32: 0 | F32: 0 | G32: 0 | H32: 0 | I32: 0 | J32: 0 | K32: 0 | L32: 0
... A35: + Other Investing Activities | B35: OTHER_INVESTING_ACT_DETAILED | C35: 30.6 | D35: 789 | E35: 34 | F35: 24 | G35: 26 | H35: -1013 | I35: 24 | J35: 94 | K35: -493 | L35: -91
A36: + Net Cash From Disc Ops | B36: CF_NET_CASH_DISCONTINUED_OPS_INV | C36: 0 | D36: 0 | E36: 0 | F36: 0 | G36: 0 | H36: 0 | I36: 0 | J36: 0 | K36: 0 | L36: —
A37: Cash from Investing Activities | B37: CF_CASH_FROM_INV_ACT | C37: 26.9 | D37: -858 | E37: -44 | F37: -30 | G37: -79 | H37: -1103 | I37: -64 | J37: 11 | K37: -660 | L37: -318
A39: Cash from Financing Activities
A40: + Dividends Paid | B40: CF_DVD_PAID | C40: -538.1 | D40: -664 | E40: -728 | F40: -901 | G40: -959 | H40: -974 | I40: -971 | J40: -990 | K40: -1029 | L40: -1108
A41: + Cash From (Repayment) Debt | B41: PROC_FR_REPAYMNTS_BOR_DETAILED | C41: -69.7 | D41: 3108 | E41: 1 | F41: -16 | G41: 527 | H41: 446 | I41: -92 | J41: -37 | K41: 260 | L41: -427
A42: + Cash From (Repay) ST Debt | B42: CF_NET_CHG_ST_DEBT_CPTL_LEAS | C42: 0 | D42: 0 | E42: 0 | F42: 0 | G42: 0 | H42: 0 | I42: 0 | J42: 0 | K42: 0 | L42: 0 | P42: FY 2016 | Q42: FY 2017 | R42: FY 2018 | S42: FY 2019 | T42: FY 2020 | U42: FY 2021 | V42: FY 2022 | W42: FY 2023 | X42: FY 2024 | Y42: FY 2025
A43: + Cash From LT Debt | B43: CF_LT_DEBT_CAP_LEAS_PROCEEDS | C43: 0 | D43: 5850 | E43: 75 | F43: 2250 | G43: 5235 | H43: 1335 | I43: 2 | J43: 55 | K43: 2450 | L43: 0 | N43: + Cash From LT Debt | P43: 0 | Q43: 5850 | R43: 75 | S43: 2250 | T43: 5235 | U43: 1335 | V43: 2 | W43: 55 | X43: 2450 | Y43: 0
A44: + Repayments of LT Debt | B44: CF_LT_DEBT_CAP_LEAS_PAYMENT | C44: -69.7 | D44: -2742 | E44: -74 | F44: -2266 | G44: -4708 | H44: -889 | I44: -94 | J44: -92 | K44: -2190 | L44: -427 | N44: + Repayments of LT Debt | P44: -69.7 | Q44: -2742 | R44: -74 | S44: -2266 | T44: -4708 | U44: -889 | V44: -94 | W44: -92 | X44: -2190 | Y44: -427
A45: + Cash (Repurchase) of Equity | B45: PROC_FR_REPURCH_EQTY_DETAILED | C45: 22.3 | D45: -301 | E45: -500 | F45: 102 | G45: -298 | H45: -491 | I45: -275 | J45: -440 | K45: 78 | L45: 33
A46: + Increase in Capital Stock | B46: CF_INCR_CAP_STOCK | C46: 22.3 | D46: 29 | E46: 61 | F46: 102 | G46: 82 | H46: 60 | I46: 51 | J46: 60 | K46: 78 | L46: 33 | N46: proceeds/repayment ratio | P46: =ABS(P43/P44) -> 0 | Q46: =ABS(Q43/Q44) -> 2.1334792 | R46: =ABS(R43/R44) -> 1.0135135 | S46: =ABS(S43/S44) -> 0.9929391 | T46: =ABS(T43/T44) -> 1.1119371 | U46: =ABS(U43/U44) -> 1.5016873 | V46: =ABS(V43/V44) -> 0.021276596 | W46: =ABS(W43/W44) -> 0.59782609 | ... Y46: =ABS(Y43/Y44) -> 0
...

Sheet 2025 Segments
A1: QSR CN Equity- Company Financial (Multiple Periods)
A2: QSR CN Equity Periodicity:A Currency:USD Estimate Source:BST Actual Source:Bloomberg
A3: In Millions of USD | B3: 2018 A (Rep) | C3: 2019 A (Rep) | D3: 2020 A (Rep) | E3: 2021 A (Rep) | F3: 2022 A (Rep) | G3: 2023 A (Rep) | H3: 2024 A (Rep) | I3: 2025 A (Rep) | J3: 2026 A (Fwd) | K3: 2027 A (Fwd)
A4: 12 Months Ending | B4: 43465 | C4: 43830 | D4: 44196 | E4: 44561 | F4: 44926 | G4: 45291 | H4: 45657 | I4: 46022 | J4: 46387 | K4: 46752
A5: Revenue | B5: 5357 | C5: 5603 | D5: 4968 | E5: 5739 | F5: 6505 | G5: 7022 | H5: 8406 | I5: 9434
A6: Tim Hortons - US & Canada | B6: 3278.52 | C6: 3345.4 | D6: 2790.46 | E6: 3331 | F6: 3802 | G6: 3972 | H6: 4040 | I6: 4247 | J6: 4475.28 | K6: 4628.36
A7: % of Total | B7: 61.2 | C7: 59.71 | D7: 56.17 | E7: 58.04 | F7: 58.45 | G7: 56.57 | H7: 48.06 | I7: 45.02
A8: Franchise & Property | B8: 1054.51 | C8: 1147.96 | D8: 934.24 | E8: 853 | F8: 905 | G8: 955 | H8: 986 | I8: 995 | J8: 1048.43 | K8: 1086.07
A9: % of Total | B9: 19.68 | C9: 20.49 | D9: 18.81 | E9: 14.86 | F9: 13.91 | G9: 13.6 | H9: 11.73 | I9: 10.55
A10: Advertising & Other Services | B10: 235.32 | E10: 229 | F10: 266 | G10: 292 | H10: 301 | I10: 298 | J10: 317.69 | K10: 331.85
A11: % of Total | B11: 4.39 | E11: 3.99 | F11: 4.09 | G11: 4.16 | H11: 3.58 | I11: 3.16
A12: Supply Chain | C12: 2358.96 | E12: 2353.4 | F12: 2771.34 | G12: 2815.4 | H12: 2708 | I12: 2909 | J12: 3110.04 | K12: 3230.94
A13: % of Total | C13: 42.1 | E13: 41.01 | F13: 42.6 | G13: 40.09 | H13: 32.22 | I13: 30.84
A14: Company Restaurant - TH | H14: 45 | I14: 46 | J14: 43.4 | K14: 44.74
A15: % of Total | H15: 0.54 | I15: 0.49
A16: Burger King - US & Canada | B16: 1669.89 | C16: 1780 | D16: 1606.04 | E16: 1156 | F16: 1196 | G16: 1298 | H16: 1451 | I16: 1514 | J16: 1532.29 | K16: 1567.91
