Workbook

Sheet 3 Statement Model
E1: Historicals | J1: Forecasts
B2: FINANCIAL STATEMENTS (C$ M) | E2: 2021A | F2: 2022A | G2: 2023A | H2: 2024A | I2: 2025A | J2: 2026E | K2: 2027E | L2: 2028E | M2: 2029E | N2: 2030E | O2: 2031E | P2: 2032E | Q2: 2033E | R2: 2034E | S2: 2035E
B3: Balance Sheet Check | E3: =IFERROR(IF(ABS(E77)>1,"ERROR","OK"),"OK") -> OK | F3: =IFERROR(IF(ABS(F77)>1,"ERROR","OK"),"OK") -> OK | G3: =IFERROR(IF(ABS(G77)>1,"ERROR","OK"),"OK") -> OK | H3: =IFERROR(IF(ABS(H77)>1,"ERROR","OK"),"OK") -> OK | I3: =IFERROR(IF(ABS(I77)>1,"ERROR","OK"),"OK") -> OK | J3: =IFERROR(IF(ABS(J77)>1,"ERROR","OK"),"OK") -> OK | K3: =IFERROR(IF(ABS(K77)>1,"ERROR","OK"),"OK") -> OK | L3: =IFERROR(IF(ABS(L77)>1,"ERROR","OK"),"OK") -> OK | ... S3: =IFERROR(IF(ABS(S77)>1,"ERROR","OK"),"OK") -> OK
B4: Active scenario | E4: =Scenarios!J4 -> Base
B5: Assumptions
B6: Income statement
B7: Revenue Growth (% Change) | F7: =F27/E27-1 -> 0.23295825 | G7: =G27/F27-1 -> -0.074579264 | H7: =H27/G27-1 -> -0.15496461 | I7: =I27/H27-1 -> 0.026302801 | J7: =J27/I27-1 -> 0.39219114 | K7: =K27/J27-1 -> 0.13630352 | L7: =L27/K27-1 -> 0.13857359 | M7: =M27/L27-1 -> 0.12930845 | ... S7: =S27/R27-1 -> 0.014532461
B8: Cost of Goods Sold (% of Revenue) | E8: =E28/E27 -> 0.70569735 | F8: =F28/F27 -> 0.75203109 | G8: =G28/G27 -> 0.80976126 | H8: =H28/H27 -> 0.72151071 | I8: =I28/I27 -> 0.70386576 | J8: =J28/J27 -> 0.62342418 | K8: =K28/K27 -> 0.64568717 | L8: =L28/L27 -> 0.66084027 | ... S8: =S28/S27 -> 0.66639824
B9: SG&A (% of revenue) | E9: =E32/E27 -> 0.11048009 | F9: =F32/F27 -> 0.092981314 | G9: =G32/G27 -> 0.1051352 | H9: =H32/H27 -> 0.13064595 | I9: =I32/I27 -> 0.14071112 | J9: 0.12 | K9: 0.125 | L9: 0.125 | M9: 0.125 | N9: 0.125 | O9: 0.125 | P9: 0.125 | Q9: 0.125 | R9: 0.125 | S9: 0.125
B10: R&D (% of Revenue) | E10: =E34/E27 -> 0.036827006 | F10: =F34/F27 -> 0.032500492 | G10: =G34/G27 -> 0.028246244 | H10: =H34/H27 -> 0.035451886 | I10: =I34/I27 -> 0.039029392 | J10: 0.035 | K10: 0.035 | L10: 0.035 | M10: 0.035 | N10: 0.035 | O10: 0.035 | P10: 0.035 | Q10: 0.035 | R10: 0.035 | S10: 0.035
B11: Depreciation & Amortization (% of opening PP&E) | E11: =E35/E119 -> 0.21006717 | F11: =F35/F119 -> 0.23482893 | G11: =G35/G119 -> 0.22104205 | H11: =H35/H119 -> 0.13755943 | I11: =I35/I119 -> 0.081481822 | J11: 0.08 | K11: 0.08 | L11: 0.08 | M11: 0.08 | N11: 0.08 | O11: 0.08 | P11: 0.08 | Q11: 0.08 | R11: 0.08 | S11: 0.08
B12: Effective Tax Rate | E12: =IFERROR(E41/E39,0) -> 0.2291537 | F12: =IFERROR(F41/F39,0) -> 0.42949214 | G12: =IFERROR(G41/G39,0) -> 1.8935172 | H12: =IFERROR(H41/H39,0) -> 2.5820139 | I12: =IFERROR(I41/I39,0) -> 3.979555 | J12: 0.3 | K12: 0.3 | L12: 0.3 | M12: 0.3 | N12: 0.3 | O12: 0.3 | P12: 0.3 | Q12: 0.3 | R12: 0.3 | S12: 0.3
B14: Balance Sheet
B15: Accounts Receivable (Days) | E15: =E54/E27*365 -> 45.606022 | F15: =F54/F27*365 -> 48.510305 | G15: =G54/G27*365 -> 49.99771 | H15: =H54/H27*365 -> 61.206272 | I15: =I54/I27*365 -> 79.254649 | J15: 65 | K15: 65 | L15: 65 | M15: 65 | N15: 65 | O15: 65 | P15: 65 | Q15: 65 | R15: 65 | S15: 65
B16: Inventory (Days) | E16: =E55/E28*365 -> 194.19144 | F16: =F55/F28*365 -> 167.80607 | G16: =G55/G28*365 -> 152.13502 | H16: =H55/H28*365 -> 155.49899 | I16: =I55/I28*365 -> 218.24203 | J16: =Scenarios!J108 -> 230 | K16: =Scenarios!K108 -> 175 | L16: =Scenarios!L108 -> 165 | M16: =Scenarios!M108 -> 165 | N16: =Scenarios!N108 -> 165 | O16: =Scenarios!O108 -> 165 | P16: =Scenarios!P108 -> 165 | Q16: =Scenarios!Q108 -> 165 | ... S16: =Scenarios!S108 -> 165
B17: Accounts Payable (Days) | E17: =E62/E28*365 -> 91.03092 | F17: =F62/F28*365 -> 54.509241 | G17: =G62/G28*365 -> 55.462754 | H17: =H62/H28*365 -> 77.621698 | I17: =I62/I28*365 -> 101.83388 | J17: 85 | K17: 85 | L17: 85 | M17: 85 | N17: 85 | O17: 85 | P17: 85 | Q17: 85 | R17: 85 | S17: 85
B18: Capital Expenditures (% of revenue) | E18: =ABS(E120/E27) -> 0.017550269 | F18: =ABS(F120/F27) -> 0.02728417 | G18: =ABS(G120/G27) -> 0.073035369 | H18: =ABS(H120/H27) -> 0.13492691 | I18: =ABS(I120/I27) -> 0.066132963 | J18: =ABS(J120/J27) -> 0.056841529 | K18: =ABS(K120/K27) -> 0.075628279 | L18: =ABS(L120/L27) -> 0.083433266 | ... S18: =ABS(S120/S27) -> 0.03
B19: Minority/Non-Controlling Interest | E19: =E73 -> 3.651767 | F19: =F73 -> 4.326355 | G19: =G73 -> 4.17205 | H19: =H73 -> 3.903275 | I19: =I73 -> 0.636028 | J19: =I19 -> 0.636028 | K19: =J19 -> 0.636028 | L19: =K19 -> 0.636028 | M19: =L19 -> 0.636028 | N19: =M19 -> 0.636028 | O19: =N19 -> 0.636028 | P19: =O19 -> 0.636028 | Q19: =P19 -> 0.636028 | ... S19: =R19 -> 0.636028
B21: Cash Flow Statement
B22: Capital Expenditures (% of revenue) | E22: =ABS(E120/E27) -> 0.017550269 | F22: =ABS(F120/F27) -> 0.02728417 | G22: =ABS(G120/G27) -> 0.073035369 | H22: =ABS(H120/H27) -> 0.13492691 | I22: =ABS(I120/I27) -> 0.066132963 | J22: =ABS(J120/J27) -> 0.056841529 | K22: =ABS(K120/K27) -> 0.075628279 | L22: =ABS(L120/L27) -> 0.083433266 | ... S22: =ABS(S120/S27) -> 0.03
B23: SBC (% of revenue) | E23: =E84/E27 -> 0.0062948417 | F23: =F84/F27 -> 0.0029084118 | G23: =G84/G27 -> 0.0049051251 | H23: =H84/H27 -> 0.0048231717 | I23: =I84/I27 -> 0.018731478 | J23: 0.013 | K23: 0.013 | L23: 0.013 | M23: 0.013 | N23: 0.013 | O23: 0.013 | P23: 0.013 | Q23: 0.013 | R23: 0.013 | S23: 0.013
E25: Historicals | J25: Forecasts
B26: Income Statement | E26: 2021A | F26: 2022A | G26: 2023A | H26: 2024A | I26: 2025A | J26: 2026E | K26: 2027E | L26: 2028E | M26: 2029E | N26: 2030E | O26: 2031E | P26: 2032E | Q26: 2033E | R26: 2034E | S26: 2035E
B27: Revenue | E27: =IS!G12 -> 676.07657 | F27: =IS!F12 -> 833.57419 | G27: =IS!E12 -> 771.40684 | H27: =IS!D12 -> 651.86608 | I27: =IS!C12 -> 669.01198 | J27: ='Revenue Build'!J38 -> 931.39256 | K27: ='Revenue Build'!K38 -> 1058.3446 | L27: ='Revenue Build'!L38 -> 1205.0033 | M27: ='Revenue Build'!M38 -> 1360.8204 | N27: ='Revenue Build'!N38 -> 1481.8439 | O27: ='Revenue Build'!O38 -> 1552.2779 | P27: ='Revenue Build'!P38 -> 1575.88 | Q27: ='Revenue Build'!Q38 -> 1598.692 | ... S27: ='Revenue Build'!S38 -> 1645.4481
B28: Cost of Goods Sold (COGS, excl. D&A) | E28: =IS!G14 -> 477.10544 | F28: =IS!F14 -> 626.8737 | G28: =IS!E14 -> 624.65537 | H28: =IS!D14 -> 470.32836 | I28: =IS!C14 -> 470.89463 | J28: =J27-J32-J34-J48 -> 580.65264 | K28: =K27-K32-K34-K48 -> 683.35955 | L28: =L27-L32-L34-L48 -> 796.31468 | M28: =M27-M32-M34-M48 -> 910.63725 | N28: =N27-N32-N34-N48 -> 989.52079 | O28: =O27-O32-O34-O48 -> 1032.572 | P28: =P27-P32-P34-P48 -> 1048.7671 | Q28: =Q27-Q32-Q34-Q48 -> 1064.4271 | ... S28: =S27-S32-S34-S48 -> 1096.5237
B29: Gross Profit | E29: =E27-E28 -> 198.97113 | F29: =F27-F28 -> 206.70049 | G29: =G27-G28 -> 146.75146 | H29: =H27-H28 -> 181.53772 | I29: =I27-I28 -> 198.11735 | J29: =J27-J28 -> 350.73992 | K29: =K27-K28 -> 374.98509 | L29: =L27-L28 -> 408.68858 | ... S29: =S27-S28 -> 548.9244
B31: Expenses
B32: Selling, General & Admin (excl. SBC, R&D) | E32: =IS!G21-IS!G64 -> 74.693002 | F32: =IS!F21-IS!F64 -> 77.506823 | G32: =IS!E21-IS!E64 -> 81.102015 | H32: =IS!D21-IS!D64 -> 85.163662 | I32: =IS!C21-IS!C64 -> 94.137426 | J32: =J27*J9 -> 111.76711 | K32: =K27*K9 -> 132.29308 | L32: =L27*L9 -> 150.62541 | M32: =M27*M9 -> 170.10255 | N32: =N27*N9 -> 185.23049 | O32: =O27*O9 -> 194.03474 | P32: =P27*P9 -> 196.985 | Q32: =Q27*Q9 -> 199.8365 | ... S32: =S27*S9 -> 205.68101
B33: SBC | E33: =IS!G64 -> 4.255795 | F33: =IS!F64 -> 2.424377 | G33: =IS!E64 -> 3.783847 | H33: =IS!D64 -> 3.144062 | I33: =IS!C64 -> 12.531583 | J33: =J23*J27 -> 12.108103 | K33: =K23*K27 -> 13.75848 | L33: =L23*L27 -> 15.665042 | M33: =M23*M27 -> 17.690665 | N33: =N23*N27 -> 19.263971 | O33: =O23*O27 -> 20.179613 | P33: =P23*P27 -> 20.486441 | Q33: =Q23*Q27 -> 20.782996 | ... S33: =S23*S27 -> 21.390826
B34: R&D | E34: =IS!G20 -> 24.897876 | F34: =IS!F20 -> 27.091571 | G34: =IS!E20 -> 21.789346 | H34: =IS!D20 -> 23.109882 | I34: =IS!C20 -> 26.111131 | J34: =J10*J27 -> 32.59874 | K34: =K10*K27 -> 37.042062 | L34: =L10*L27 -> 42.175114 | M34: =M10*M27 -> 47.628713 | N34: =N10*N27 -> 51.864537 | O34: =O10*O27 -> 54.329728 | P34: =P10*P27 -> 55.155801 | Q34: =Q10*Q27 -> 55.95422 | ... S34: =S10*S27 -> 57.590684
B35: Depreciation & Amortization | E35: =IS!G15 -> 19.890468 | F35: =IS!F15 -> 21.765688 | G35: =IS!E15 -> 22.692287 | H35: =IS!D15 -> 21.570045 | I35: =IS!C15 -> 20.967712 | J35: =-J121 -> 21.76093 | K35: =-K121 -> 24.255398 | L35: =-L121 -> 28.718229 | M35: =-M121 -> 34.463759 | N35: =-N121 -> 38.835863 | O35: =-O121 -> 39.285419 | P35: =-P121 -> 39.868053 | Q35: =-Q121 -> 40.460721 | ... S35: =-S121 -> 41.668374
B36: Non-Operating (Income) Loss incl. interest | E36: =-IS!G24+IS!G27+IS!G30 -> 22.668738 | F36: =-IS!F24+IS!F27+IS!F30 -> 22.373652 | G36: =-IS!E24+IS!E27+IS!E30 -> 6.74439 | H36: =-IS!D24+IS!D27+IS!D30 -> 39.028833 | I36: =-IS!C24+IS!C27+IS!C30 -> 39.312718 | J36: =J130 -> 8.6799728 | K36: =K130 -> 13.782248 | L36: =L130 -> 13.782248 | M36: =M130 -> 13.782248 | N36: =N130 -> 13.782248 | O36: =O130 -> 13.782248 | P36: =P130 -> 13.782248 | Q36: =Q130 -> 13.782248 | ... S36: =S130 -> 13.782248
B37: Other Operating Expenses / adjusting items | E37: =IS!G22 -> 0.1517 | F37: =IS!F22 -> 1.60519 | G37: =IS!E22 -> 2.31201 | H37: =IS!D22 -> 0 | I37: =IS!C22 -> 0 | J37: =Scenarios!J89 -> 15 | K37: =Scenarios!K89 -> 8 | L37: =Scenarios!L89 -> 5 | M37: =Scenarios!M89 -> 5 | N37: =Scenarios!N89 -> 5 | O37: =Scenarios!O89 -> 5 | P37: =Scenarios!P89 -> 5 | Q37: =Scenarios!Q89 -> 5 | ... S37: =Scenarios!S89 -> 5
B38: Total Expenses | E38: =SUM(E32:E37) -> 146.55758 | F38: =SUM(F32:F37) -> 152.7673 | G38: =SUM(G32:G37) -> 138.42389 | H38: =SUM(H32:H37) -> 172.01648 | I38: =SUM(I32:I37) -> 193.06057 | J38: =SUM(J32:J37) -> 201.91485 | K38: =SUM(K32:K37) -> 229.13127 | L38: =SUM(L32:L37) -> 255.96604 | ... S38: =SUM(S32:S37) -> 345.11315
B39: Earnings Before Tax | E39: =E29-E38 -> 52.41355 | F39: =F29-F38 -> 53.933185 | G39: =G29-G38 -> 8.327568 | H39: =H29-H38 -> 9.521235 | I39: =I29-I38 -> 5.056784 | J39: =J29-J38 -> 148.82507 | K39: =K29-K38 -> 145.85382 | L39: =L29-L38 -> 152.72254 | ... S39: =S29-S38 -> 203.81125
B41: Taxes | E41: =IS!G39 -> 12.010759 | F41: =IS!F39 -> 23.163879 | G41: =IS!E39 -> 15.768393 | H41: =IS!D39 -> 24.583961 | I41: =IS!C39 -> 20.12375 | J41: =MAX(0,J39)*J12 -> 44.64752 | K41: =MAX(0,K39)*K12 -> 43.756146 | L41: =MAX(0,L39)*L12 -> 45.816761 | M41: =MAX(0,M39)*M12 -> 48.454555 | N41: =MAX(0,N39)*N12 -> 53.503805 | O41: =MAX(0,O39)*O12 -> 57.928253 | P41: =MAX(0,P39)*P12 -> 58.750607 | Q41: =MAX(0,Q39)*Q12 -> 59.534455 | ... S41: =MAX(0,S39)*S12 -> 61.143375
B42: (Income) Loss from Affiliates | E42: =-IS!G42 -> -4.785497 | F42: =-IS!F42 -> -3.623058 | G42: =-IS!E42 -> 3.884399 | H42: =-IS!D42 -> 2.768692 | I42: =-IS!C42 -> -1.137393 | J42: 0 | K42: 0 | L42: 0 | M42: 0 | N42: 0 | O42: 0 | P42: 0 | Q42: 0 | R42: 0 | S42: 0
B43: Minority Interest | E43: =IS!G44 -> 1.085732 | F43: =IS!F44 -> 0.613173 | G43: =IS!E44 -> 0.068834 | H43: =IS!D44 -> -0.095897 | I43: =IS!C44 -> 0.020959 | J43: 0 | K43: 0 | L43: 0 | M43: 0 | N43: 0 | O43: 0 | P43: 0 | Q43: 0 | R43: 0 | S43: 0
B44: Net Earnings | E44: =E39-E41-E42-E43 -> 44.102556 | F44: =F39-F41-F42-F43 -> 33.779191 | G44: =G39-G41-G42-G43 -> -11.394058 | H44: =H39-H41-H42-H43 -> -17.735521 | I44: =I39-I41-I42-I43 -> -13.950532 | J44: =J39-J41-J42-J43 -> 104.17755 | K44: =K39-K41-K42-K43 -> 102.09767 | L44: =L39-L41-L42-L43 -> 106.90578 | ... S44: =S39-S41-S42-S43 -> 142.66787
B45: Check vs FactSet net income | E45: =E44-IS!G45 -> 3.0000001e-06 | F45: =F44-IS!F45 -> -9.9999991e-07 | G45: =G44-IS!E45 -> -1e-06 | H45: =H44-IS!D45 -> 2e-06 | I45: =I44-IS!C45 -> -3.0000001e-06
...

Sheet Scenarios
E1: Historicals | J1: Forecasts
B2: SCENARIO ANALYSIS (C$ M) | E2: 2021A | F2: 2022A | G2: 2023A | H2: 2024A | I2: 2025A | J2: 2026E | K2: 2027E | L2: 2028E | M2: 2029E | N2: 2030E | O2: 2031E | P2: 2032E | Q2: 2033E | R2: 2034E | S2: 2035E | U2: SENSITIVITY: DCF VALUE PER SHARE (C$, base case) | AD2: LIVE SENSITIVITY SETUP
U3: Driver | V3: Low input | W3: High input | X3: DCF low | Y3: DCF high | Z3: Low vs base | AA3: High vs base | AD3: Sensitivity driver (0 = off) | AE3: 0
B4: Scenario selector: 1 = Base, 2 = Bull, 3 = Bear | D4: 1 | J4: =CHOOSE($D$4,"Base","Bull","Bear") -> Base | U4: Base case | X4: ='DCF & WACC Calculation'!C75 -> 39.289406 | AD4: Direction (-1 = low, +1 = high) | AE4: 0
U5: Rare Metals price index ±20% | V5: -20% | W5: +20% | X5: =IF(AE21="","",AE21) -> 34.292603 | Y5: =IF(AF21="","",AF21) -> 44.28621 | Z5: =IF(X5="","",X5-$X$4) -> -4.9968035 | AA5: =IF(Y5="","",Y5-$X$4) -> 4.9968035
E6: Historicals | J6: Forecasts | U6: Rare Metals EBITDA margin ±5 pts | V6: -5 pts | W6: +5 pts | X6: =IF(AE22="","",AE22) -> 34.392762 | Y6: =IF(AF22="","",AF22) -> 44.18605 | Z6: =IF(X6="","",X6-$X$4) -> -4.8966439 | AA6: =IF(Y6="","",Y6-$X$4) -> 4.8966439 | AD6: # | AE6: Driver | AF6: Shift size | AG6: Active shift
B7: Macro | E7: 2021A | F7: 2022A | G7: 2023A | H7: 2024A | I7: 2025A | J7: 2026E | K7: 2027E | L7: 2028E | M7: 2029E | N7: 2030E | O7: 2031E | P7: 2032E | Q7: 2033E | R7: 2034E | S7: 2035E | U7: Exit EV/EBITDA multiple ±2x | V7: 12.0x | W7: 16.0x | X7: =IF(AE23="","",AE23) -> 34.921455 | Y7: =IF(AF23="","",AF23) -> 43.657357 | Z7: =IF(X7="","",X7-$X$4) -> -4.3679508 | AA7: =IF(Y7="","",Y7-$X$4) -> 4.3679508 | AD7: 1 | AE7: Rare Metals price index ±20% | AF7: 0.2 | AG7: =IF($AE$3=AD7,$AE$4*AF7,0) -> 0
B8: Company revenue, US$ M (as reported) | H8: 475.8 | I8: 478.8 | U8: WACC ±1 pt | V8: 11.9% | W8: 9.9% | X8: =IF(AE24="","",AE24) -> 36.389895 | Y8: =IF(AF24="","",AF24) -> 42.455153 | Z8: =IF(X8="","",X8-$X$4) -> -2.8995118 | AA8: =IF(Y8="","",Y8-$X$4) -> 3.1657471 | AD8: 2 | AE8: Rare Metals EBITDA margin ±5 pts | AF8: 0.05 | AG8: =IF($AE$3=AD8,$AE$4*AF8,0) -> 0
B9: CAD per USD | H9: =Segments!J5/H8 -> 1.3700422 | I9: =Segments!K5/I8 -> 1.3972681 | J9: 1.4 | K9: 1.4 | L9: 1.4 | M9: 1.4 | N9: 1.4 | O9: 1.4 | P9: 1.4 | Q9: 1.4 | R9: 1.4 | S9: 1.4 | U9: Sintered EBITDA margin ±3 pts | V9: -3 pts | W9: +3 pts | X9: =IF(AE25="","",AE25) -> 36.54717 | Y9: =IF(AF25="","",AF25) -> 42.031643 | Z9: =IF(X9="","",X9-$X$4) -> -2.7422364 | AA9: =IF(Y9="","",Y9-$X$4) -> 2.7422364 | AD9: 3 | AE9: Exit EV/EBITDA multiple ±2x | AF9: 2 | AG9: =IF($AE$3=AD9,$AE$4*AF9,0) -> 0
U10: Chemicals & Oxides EBITDA margin ±3 pts | V10: -3 pts | W10: +3 pts | X10: =IF(AE26="","",AE26) -> 37.780428 | Y10: =IF(AF26="","",AF26) -> 40.798384 | Z10: =IF(X10="","",X10-$X$4) -> -1.5089782 | AA10: =IF(Y10="","",Y10-$X$4) -> 1.5089782 | AD10: 4 | AE10: WACC ±1 pt | AF10: 0.01 | AG10: =IF($AE$3=AD10,$AE$4*AF10,0) -> 0
E11: Historicals | J11: Forecasts | U11: Sintered price ±US$10/kg | V11: US$65 | W11: US$85 | X11: =IF(AE27="","",AE27) -> 37.949842 | Y11: =IF(AF27="","",AF27) -> 40.628971 | Z11: =IF(X11="","",X11-$X$4) -> -1.3395643 | AA11: =IF(Y11="","",Y11-$X$4) -> 1.3395643 | AD11: 5 | AE11: Sintered EBITDA margin ±3 pts | AF11: 0.03 | AG11: =IF($AE$3=AD11,$AE$4*AF11,0) -> 0
B12: Rare Metals | E12: 2021A | F12: 2022A | G12: 2023A | H12: 2024A | I12: 2025A | J12: 2026E | K12: 2027E | L12: 2028E | M12: 2029E | N12: 2030E | O12: 2031E | P12: 2032E | Q12: 2033E | R12: 2034E | S12: 2035E | U12: Bonded powders growth ±2 pts | V12: -2 pts | W12: +2 pts | X12: =IF(AE28="","",AE28) -> 38.175315 | Y12: =IF(AF28="","",AF28) -> 40.597275 | Z12: =IF(X12="","",X12-$X$4) -> -1.1140917 | AA12: =IF(Y12="","",Y12-$X$4) -> 1.3078687 | AD12: 6 | AE12: Chemicals & Oxides EBITDA margin ±3 pts | AF12: 0.03 | AG12: =IF($AE$3=AD12,$AE$4*AF12,0) -> 0
B13: Price index, hafnium/rare metals basket (2025A = 100) | U13: Tax rate ±5 pts | V13: 35% | W13: 25% | X13: =IF(AE29="","",AE29) -> 38.139559 | Y13: =IF(AF29="","",AF29) -> 40.439254 | Z13: =IF(X13="","",X13-$X$4) -> -1.1498477 | AA13: =IF(Y13="","",Y13-$X$4) -> 1.1498477 | AD13: 7 | AE13: Sintered price ±US$10/kg | AF13: 10 | AG13: =IF($AE$3=AD13,$AE$4*AF13,0) -> 0
B14: Base | J14: 190 | K14: 190 | L14: 190 | M14: 190 | N14: 190 | O14: 190 | P14: 190 | Q14: 190 | R14: 190 | S14: 190 | U14: Narva sintered volume ±10% | V14: -10% | W14: +10% | X14: =IF(AE30="","",AE30) -> 38.284733 | Y14: =IF(AF30="","",AF30) -> 40.29408 | Z14: =IF(X14="","",X14-$X$4) -> -1.0046732 | AA14: =IF(Y14="","",Y14-$X$4) -> 1.0046732 | AD14: 8 | AE14: Bonded powders growth ±2 pts | AF14: 0.02 | AG14: =IF($AE$3=AD14,$AE$4*AF14,0) -> 0
B15: Bull | J15: 195 | K15: 211 | L15: 211 | M15: 211 | N15: 211 | O15: 211 | P15: 211 | Q15: 211 | R15: 211 | S15: 211 | U15: Inventory days ±20 | V15: +20 days | W15: -20 days | X15: =IF(AE31="","",AE31) -> 38.748177 | Y15: =IF(AF31="","",AF31) -> 39.830636 | Z15: =IF(X15="","",X15-$X$4) -> -0.5412294 | AA15: =IF(Y15="","",Y15-$X$4) -> 0.5412294 | AD15: 9 | AE15: Tax rate ±5 pts | AF15: 0.05 | AG15: =IF($AE$3=AD15,$AE$4*AF15,0) -> 0
B16: Bear | J16: 180 | K16: 115 | L16: 105 | M16: 110 | N16: 115 | O16: 115 | P16: 115 | Q16: 115 | R16: 115 | S16: 115 | AD16: 10 | AE16: Narva sintered volume ±10% | AF16: 0.1 | AG16: =IF($AE$3=AD16,$AE$4*AF16,0) -> 0
B17: Selected | J17: =CHOOSE($D$4,J14,J15,J16)*(1+$AG$7) -> 190 | K17: =CHOOSE($D$4,K14,K15,K16)*(1+$AG$7) -> 190 | L17: =CHOOSE($D$4,L14,L15,L16)*(1+$AG$7) -> 190 | M17: =CHOOSE($D$4,M14,M15,M16)*(1+$AG$7) -> 190 | N17: =CHOOSE($D$4,N14,N15,N16)*(1+$AG$7) -> 190 | O17: =CHOOSE($D$4,O14,O15,O16)*(1+$AG$7) -> 190 | P17: =CHOOSE($D$4,P14,P15,P16)*(1+$AG$7) -> 190 | Q17: =CHOOSE($D$4,Q14,Q15,Q16)*(1+$AG$7) -> 190 | ... S17: =CHOOSE($D$4,S14,S15,S16)*(1+$AG$7) -> 190 | AD17: 11 | AE17: Inventory days ±20 | AF17: 20 | AG17: =IF($AE$3=AD17,$AE$4*AF17,0) -> 0
B19: Volume index (2025A = 100) | AD19: Data table inputs
B20: Base | J20: 105 | K20: 110 | L20: 113 | M20: 116 | N20: 118 | O20: 120 | P20: 122 | Q20: 124 | R20: 126 | S20: 128 | AD20: ='DCF & WACC Calculation'!C75 -> 39.289406 | AE20: -1 | AF20: 1
B21: Bull | J21: 105 | K21: 112 | L21: 118 | M21: 122 | N21: 125 | O21: 128 | P21: 131 | Q21: 134 | R21: 137 | S21: 140 | AD21: 1 | AE21: 34.292603 | AF21: 44.28621
B22: Bear | J22: 103 | K22: 100 | L22: 100 | M22: 102 | N22: 104 | O22: 106 | P22: 108 | Q22: 110 | R22: 112 | S22: 114 | AD22: 2 | AE22: 34.392762 | AF22: 44.18605
B23: Selected | J23: =CHOOSE($D$4,J20,J21,J22) -> 105 | K23: =CHOOSE($D$4,K20,K21,K22) -> 110 | L23: =CHOOSE($D$4,L20,L21,L22) -> 113 | M23: =CHOOSE($D$4,M20,M21,M22) -> 116 | N23: =CHOOSE($D$4,N20,N21,N22) -> 118 | O23: =CHOOSE($D$4,O20,O21,O22) -> 120 | P23: =CHOOSE($D$4,P20,P21,P22) -> 122 | Q23: =CHOOSE($D$4,Q20,Q21,Q22) -> 124 | ... S23: =CHOOSE($D$4,S20,S21,S22) -> 128 | AD23: 3 | AE23: 34.921455 | AF23: 43.657357
AD24: 4 | AE24: 36.389895 | AF24: 42.455153
B25: EBITDA margin | AD25: 5 | AE25: 36.54717 | AF25: 42.031643
B26: Base | J26: 0.38 | K26: 0.34 | L26: 0.31 | M26: 0.28 | N26: 0.28 | O26: 0.28 | P26: 0.28 | Q26: 0.28 | R26: 0.28 | S26: 0.28 | AD26: 6 | AE26: 37.780428 | AF26: 40.798384
B27: Bull | J27: 0.38 | K27: 0.37 | L27: 0.35 | M27: 0.33 | N27: 0.32 | O27: 0.31 | P27: 0.3 | Q27: 0.3 | R27: 0.3 | S27: 0.3 | AD27: 7 | AE27: 37.949842 | AF27: 40.628971
B28: Bear | J28: 0.36 | K28: 0.24 | L28: 0.23 | M28: 0.25 | N28: 0.26 | O28: 0.26 | P28: 0.26 | Q28: 0.26 | R28: 0.26 | S28: 0.26 | AD28: 8 | AE28: 38.175315 | AF28: 40.597275
B29: Selected | J29: =CHOOSE($D$4,J26,J27,J28)+$AG$8 -> 0.38 | K29: =CHOOSE($D$4,K26,K27,K28)+$AG$8 -> 0.34 | L29: =CHOOSE($D$4,L26,L27,L28)+$AG$8 -> 0.31 | M29: =CHOOSE($D$4,M26,M27,M28)+$AG$8 -> 0.28 | N29: =CHOOSE($D$4,N26,N27,N28)+$AG$8 -> 0.28 | O29: =CHOOSE($D$4,O26,O27,O28)+$AG$8 -> 0.28 | P29: =CHOOSE($D$4,P26,P27,P28)+$AG$8 -> 0.28 | Q29: =CHOOSE($D$4,Q26,Q27,Q28)+$AG$8 -> 0.28 | ... S29: =CHOOSE($D$4,S26,S27,S28)+$AG$8 -> 0.28 | AD29: 9 | AE29: 38.139559 | AF29: 40.439254
AD30: 10 | AE30: 38.284733 | AF30: 40.29408
E31: Historicals | J31: Forecasts | AD31: 11 | AE31: 38.748177 | AF31: 39.830636
B32: Magnequench | E32: 2021A | F32: 2022A | G32: 2023A | H32: 2024A | I32: 2025A | J32: 2026E | K32: 2027E | L32: 2028E | M32: 2029E | N32: 2030E | O32: 2031E | P32: 2032E | Q32: 2033E | R32: 2034E | S32: 2035E
B33: Bonded powders revenue growth
B34: Base | J34: 0.04 | K34: 0.04 | L34: 0.03 | M34: 0.03 | N34: 0.03 | O34: 0.025 | P34: 0.025 | Q34: 0.025 | R34: 0.025 | S34: 0.025
B35: Bull | J35: 0.06 | K35: 0.06 | L35: 0.05 | M35: 0.04 | N35: 0.04 | O35: 0.03 | P35: 0.03 | Q35: 0.03 | R35: 0.03 | S35: 0.03
B36: Bear | J36: -0.04 | K36: -0.02 | L36: 0.01 | M36: 0.02 | N36: 0.02 | O36: 0.02 | P36: 0.02 | Q36: 0.02 | R36: 0.02 | S36: 0.02
B37: Selected | J37: =CHOOSE($D$4,J34,J35,J36)+$AG$14 -> 0.04 | K37: =CHOOSE($D$4,K34,K35,K36)+$AG$14 -> 0.04 | L37: =CHOOSE($D$4,L34,L35,L36)+$AG$14 -> 0.03 | M37: =CHOOSE($D$4,M34,M35,M36)+$AG$14 -> 0.03 | N37: =CHOOSE($D$4,N34,N35,N36)+$AG$14 -> 0.03 | O37: =CHOOSE($D$4,O34,O35,O36)+$AG$14 -> 0.025 | P37: =CHOOSE($D$4,P34,P35,P36)+$AG$14 -> 0.025 | Q37: =CHOOSE($D$4,Q34,Q35,Q36)+$AG$14 -> 0.025 | ... S37: =CHOOSE($D$4,S34,S35,S36)+$AG$14 -> 0.025
B39: Bonded powders EBITDA margin
B40: Base | J40: 0.15 | K40: 0.15 | L40: 0.15 | M40: 0.15 | N40: 0.15 | O40: 0.15 | P40: 0.15 | Q40: 0.15 | R40: 0.15 | S40: 0.15
B41: Bull | J41: 0.16 | K41: 0.16 | L41: 0.16 | M41: 0.16 | N41: 0.16 | O41: 0.16 | P41: 0.16 | Q41: 0.16 | R41: 0.16 | S41: 0.16
B42: Bear | J42: 0.125 | K42: 0.12 | L42: 0.12 | M42: 0.13 | N42: 0.135 | O42: 0.135 | P42: 0.135 | Q42: 0.135 | R42: 0.135 | S42: 0.135
...

Sheet Revenue Build
E1: Historicals | J1: Forecasts
B2: REVENUE BUILD (C$ M) | E2: 2021A | F2: 2022A | G2: 2023A | H2: 2024A | I2: 2025A | J2: 2026E | K2: 2027E | L2: 2028E | M2: 2029E | N2: 2030E | O2: 2031E | P2: 2032E | Q2: 2033E | R2: 2034E | S2: 2035E
E4: Historicals | J4: Forecasts
B5: Rare Metals | E5: 2021A | F5: 2022A | G5: 2023A | H5: 2024A | I5: 2025A | J5: 2026E | K5: 2027E | L5: 2028E | M5: 2029E | N5: 2030E | O5: 2031E | P5: 2032E | Q5: 2033E | R5: 2034E | S5: 2035E
B6: Revenue | E6: =Segments!G7 -> 104.81707 | F6: =Segments!H7 -> 169.74347 | G6: =Segments!I7 -> 168.17235 | H6: =Segments!J7 -> 213.99623 | I6: =Segments!K7 -> 206.33061 | J6: =$I$6*Scenarios!J17/100*Scenarios!J23/100 -> 411.62958 | K6: =$I$6*Scenarios!K17/100*Scenarios!K23/100 -> 431.23099 | L6: =$I$6*Scenarios!L17/100*Scenarios!L23/100 -> 442.99183 | M6: =$I$6*Scenarios!M17/100*Scenarios!M23/100 -> 454.75268 | N6: =$I$6*Scenarios!N17/100*Scenarios!N23/100 -> 462.59324 | O6: =$I$6*Scenarios!O17/100*Scenarios!O23/100 -> 470.4338 | P6: =$I$6*Scenarios!P17/100*Scenarios!P23/100 -> 478.27437 | Q6: =$I$6*Scenarios!Q17/100*Scenarios!Q23/100 -> 486.11493 | ... S6: =$I$6*Scenarios!S17/100*Scenarios!S23/100 -> 501.79606
B7: Adj. EBITDA, US$ M (as reported) | H7: 51.8 | I7: 43.2
B8: Adj. EBITDA | H8: =H7*Scenarios!H9 -> 70.968188 | I8: =I7*Scenarios!I9 -> 60.361983 | J8: =J6*J9 -> 156.41924 | K8: =K6*K9 -> 146.61854 | L8: =L6*L9 -> 137.32747 | M8: =M6*M9 -> 127.33075 | N8: =N6*N9 -> 129.52611 | O8: =O6*O9 -> 131.72146 | P8: =P6*P9 -> 133.91682 | Q8: =Q6*Q9 -> 136.11218 | ... S8: =S6*S9 -> 140.5029
B9: EBITDA margin | H9: =H8/H6 -> 0.3316329 | I9: =I8/I6 -> 0.29254982 | J9: =Scenarios!J29 -> 0.38 | K9: =Scenarios!K29 -> 0.34 | L9: =Scenarios!L29 -> 0.31 | M9: =Scenarios!M29 -> 0.28 | N9: =Scenarios!N29 -> 0.28 | O9: =Scenarios!O29 -> 0.28 | P9: =Scenarios!P29 -> 0.28 | Q9: =Scenarios!Q29 -> 0.28 | ... S9: =Scenarios!S29 -> 0.28
E11: Historicals | J11: Forecasts
B12: Magnequench | E12: 2021A | F12: 2022A | G12: 2023A | H12: 2024A | I12: 2025A | J12: 2026E | K12: 2027E | L12: 2028E | M12: 2029E | N12: 2030E | O12: 2031E | P12: 2032E | Q12: 2033E | R12: 2034E | S12: 2035E
B13: Bonded powders revenue | I13: =I17 -> 285.82236 | J13: =I13*(1+Scenarios!J37) -> 297.25526 | K13: =J13*(1+Scenarios!K37) -> 309.14547 | L13: =K13*(1+Scenarios!L37) -> 318.41983 | M13: =L13*(1+Scenarios!M37) -> 327.97243 | N13: =M13*(1+Scenarios!N37) -> 337.8116 | O13: =N13*(1+Scenarios!O37) -> 346.25689 | P13: =O13*(1+Scenarios!P37) -> 354.91331 | Q13: =P13*(1+Scenarios!Q37) -> 363.78614 | ... S13: =R13*(1+Scenarios!S37) -> 382.20282
B14: Narva sintered volume (t) | J14: =Scenarios!J49 -> 300 | K14: =Scenarios!K49 -> 1100 | L14: =Scenarios!L49 -> 2200 | M14: =Scenarios!M49 -> 3400 | N14: =Scenarios!N49 -> 4300 | O14: =Scenarios!O49 -> 4750 | P14: =Scenarios!P49 -> 4750 | Q14: =Scenarios!Q49 -> 4750 | ... S14: =Scenarios!S49 -> 4750
B15: Sintered price (US$/kg) | J15: =Scenarios!J55 -> 75 | K15: =Scenarios!K55 -> 75 | L15: =Scenarios!L55 -> 75 | M15: =Scenarios!M55 -> 75 | N15: =Scenarios!N55 -> 75 | O15: =Scenarios!O55 -> 75 | P15: =Scenarios!P55 -> 75 | Q15: =Scenarios!Q55 -> 75 | ... S15: =Scenarios!S55 -> 75
B16: Sintered magnet revenue | J16: =J14*J15*Scenarios!J9/1000 -> 31.5 | K16: =K14*K15*Scenarios!K9/1000 -> 115.5 | L16: =L14*L15*Scenarios!L9/1000 -> 231 | M16: =M14*M15*Scenarios!M9/1000 -> 357 | N16: =N14*N15*Scenarios!N9/1000 -> 451.5 | O16: =O14*O15*Scenarios!O9/1000 -> 498.75 | P16: =P14*P15*Scenarios!P9/1000 -> 498.75 | Q16: =Q14*Q15*Scenarios!Q9/1000 -> 498.75 | ... S16: =S14*S15*Scenarios!S9/1000 -> 498.75
B17: Revenue | E17: =Segments!G6 -> 330.67576 | F17: =Segments!H6 -> 361.14979 | G17: =Segments!I6 -> 288.47535 | H17: =Segments!J6 -> 242.00235 | I17: =Segments!K6 -> 285.82236 | J17: =J13+J16 -> 328.75526 | K17: =K13+K16 -> 424.64547 | L17: =L13+L16 -> 549.41983 | M17: =M13+M16 -> 684.97243 | N17: =N13+N16 -> 789.3116 | O17: =O13+O16 -> 845.00689 | P17: =P13+P16 -> 853.66331 | Q17: =Q13+Q16 -> 862.53614 | ... S17: =S13+S16 -> 880.95282
B18: Bonded EBITDA | J18: =J13*Scenarios!J43 -> 44.588288 | K18: =K13*Scenarios!K43 -> 46.37182 | L18: =L13*Scenarios!L43 -> 47.762975 | M18: =M13*Scenarios!M43 -> 49.195864 | N18: =N13*Scenarios!N43 -> 50.67174 | O18: =O13*Scenarios!O43 -> 51.938533 | P18: =P13*Scenarios!P43 -> 53.236997 | Q18: =Q13*Scenarios!Q43 -> 54.567922 | ... S18: =S13*Scenarios!S43 -> 57.330423
B19: Sintered EBITDA | J19: =J16*Scenarios!J61 -> -2.835 | K19: =K16*Scenarios!K61 -> 9.24 | L19: =L16*Scenarios!L61 -> 27.72 | M19: =M16*Scenarios!M61 -> 53.55 | N19: =N16*Scenarios!N61 -> 72.24 | O19: =O16*Scenarios!O61 -> 84.7875 | P19: =P16*Scenarios!P61 -> 84.7875 | Q19: =Q16*Scenarios!Q61 -> 84.7875 | ... S19: =S16*Scenarios!S61 -> 84.7875
B20: Adj. EBITDA, US$ M (as reported) | H20: 25.5 | I20: 28.4
B21: Adj. EBITDA | H21: =H20*Scenarios!H9 -> 34.936077 | I21: =I20*Scenarios!I9 -> 39.682415 | J21: =J18+J19 -> 41.753288 | K21: =K18+K19 -> 55.61182 | L21: =L18+L19 -> 75.482975 | M21: =M18+M19 -> 102.74586 | N21: =N18+N19 -> 122.91174 | O21: =O18+O19 -> 136.72603 | P21: =P18+P19 -> 138.0245 | Q21: =Q18+Q19 -> 139.35542 | ... S21: =S18+S19 -> 142.11792
B22: EBITDA margin | H22: =H21/H17 -> 0.14436255 | I22: =I21/I17 -> 0.13883594 | J22: =J21/J17 -> 0.12700417 | K22: =K21/K17 -> 0.13096059 | L22: =L21/L17 -> 0.13738669 | M22: =M21/M17 -> 0.15 | N22: =N21/N17 -> 0.15572017 | O22: =O21/O17 -> 0.16180464 | ... S22: =S21/S17 -> 0.16132297
E24: Historicals | J24: Forecasts
B25: Chemicals & Oxides | E25: 2021A | F25: 2022A | G25: 2023A | H25: 2024A | I25: 2025A | J25: 2026E | K25: 2027E | L25: 2028E | M25: 2029E | N25: 2030E | O25: 2031E | P25: 2032E | Q25: 2033E | R25: 2034E | S25: 2035E
B26: Revenue | E26: =Segments!G8 -> 240.58378 | F26: =Segments!H8 -> 302.68095 | G26: =Segments!I8 -> 314.75915 | H26: =Segments!J8 -> 195.86752 | I26: =Segments!K8 -> 176.859 | J26: =I26*(1+Scenarios!J69) -> 191.00773 | K26: =J26*(1+Scenarios!K69) -> 202.46819 | L26: =K26*(1+Scenarios!L69) -> 212.5916 | M26: =L26*(1+Scenarios!M69) -> 221.09526 | N26: =M26*(1+Scenarios!N69) -> 229.93907 | O26: =N26*(1+Scenarios!O69) -> 236.83724 | P26: =O26*(1+Scenarios!P69) -> 243.94236 | Q26: =P26*(1+Scenarios!Q69) -> 250.04092 | ... S26: =R26*(1+Scenarios!S69) -> 262.69924
B27: Adj. EBITDA, US$ M (as reported) | H27: 4.9 | I27: 23.4
B28: Adj. EBITDA | H28: =H27*Scenarios!H9 -> 6.713207 | I28: =I27*Scenarios!I9 -> 32.696074 | J28: =J26*J29 -> 38.201545 | K28: =K26*K29 -> 34.419592 | L28: =L26*L29 -> 35.077614 | M28: =M26*M29 -> 35.375242 | N28: =N26*N29 -> 36.790252 | O28: =O26*O29 -> 37.893959 | P28: =P26*P29 -> 39.030778 | Q28: =Q26*Q29 -> 40.006547 | ... S28: =S26*S29 -> 42.031879
B29: EBITDA margin | H29: =H28/H26 -> 0.034274222 | I29: =I28/I26 -> 0.18487085 | J29: =Scenarios!J75 -> 0.2 | K29: =Scenarios!K75 -> 0.17 | L29: =Scenarios!L75 -> 0.165 | M29: =Scenarios!M75 -> 0.16 | N29: =Scenarios!N75 -> 0.16 | O29: =Scenarios!O75 -> 0.16 | P29: =Scenarios!P75 -> 0.16 | Q29: =Scenarios!Q75 -> 0.16 | ... S29: =Scenarios!S75 -> 0.16
E31: Historicals | J31: Forecasts
B32: Corporate | E32: 2021A | F32: 2022A | G32: 2023A | H32: 2024A | I32: 2025A | J32: 2026E | K32: 2027E | L32: 2028E | M32: 2029E | N32: 2030E | O32: 2031E | P32: 2032E | Q32: 2033E | R32: 2034E | S32: 2035E
B33: Corporate costs, US$ M (as reported) | H33: -17.8 | I33: -19.4
B34: Corporate costs | H34: =H33*Scenarios!H9 -> -24.386752 | I34: =I33*Scenarios!I9 -> -27.107002 | J34: =Scenarios!J83 -> -30 | K34: =Scenarios!K83 -> -31 | L34: =Scenarios!L83 -> -32 | M34: =Scenarios!M83 -> -33 | N34: =Scenarios!N83 -> -34 | O34: =Scenarios!O83 -> -35 | P34: =Scenarios!P83 -> -36 | Q34: =Scenarios!Q83 -> -37 | ... S34: =Scenarios!S83 -> -39
E36: Historicals | J36: Forecasts
B37: Consolidated | E37: 2021A | F37: 2022A | G37: 2023A | H37: 2024A | I37: 2025A | J37: 2026E | K37: 2027E | L37: 2028E | M37: 2029E | N37: 2030E | O37: 2031E | P37: 2032E | Q37: 2033E | R37: 2034E | S37: 2035E
B38: Total revenue | E38: ='Revenue Build'!E6+'Revenue Build'!E17+'Revenue Build'!E26 -> 676.0766 | F38: ='Revenue Build'!F6+'Revenue Build'!F17+'Revenue Build'!F26 -> 833.57422 | G38: ='Revenue Build'!G6+'Revenue Build'!G17+'Revenue Build'!G26 -> 771.40684 | H38: ='Revenue Build'!H6+'Revenue Build'!H17+'Revenue Build'!H26 -> 651.8661 | I38: ='Revenue Build'!I6+'Revenue Build'!I17+'Revenue Build'!I26 -> 669.01198 | J38: ='Revenue Build'!J6+'Revenue Build'!J17+'Revenue Build'!J26 -> 931.39256 | K38: ='Revenue Build'!K6+'Revenue Build'!K17+'Revenue Build'!K26 -> 1058.3446 | L38: ='Revenue Build'!L6+'Revenue Build'!L17+'Revenue Build'!L26 -> 1205.0033 | ... S38: ='Revenue Build'!S6+'Revenue Build'!S17+'Revenue Build'!S26 -> 1645.4481
B39: Check vs FactSet sales | E39: =E38-IS!G12 -> 3e-05 | F39: =F38-IS!F12 -> 3.1e-05 | G39: =G38-IS!E12 -> 9e-06 | H39: =H38-IS!D12 -> 1.8e-05 | I39: =I38-IS!C12 -> -2e-06
B40: Adj. EBITDA (company basis) | H40: ='Revenue Build'!H8+'Revenue Build'!H21+'Revenue Build'!H28+'Revenue Build'!H34 -> 88.23072 | I40: ='Revenue Build'!I8+'Revenue Build'!I21+'Revenue Build'!I28+'Revenue Build'!I34 -> 105.63347 | J40: ='Revenue Build'!J8+'Revenue Build'!J21+'Revenue Build'!J28+'Revenue Build'!J34 -> 206.37407 | K40: ='Revenue Build'!K8+'Revenue Build'!K21+'Revenue Build'!K28+'Revenue Build'!K34 -> 205.64995 | L40: ='Revenue Build'!L8+'Revenue Build'!L21+'Revenue Build'!L28+'Revenue Build'!L34 -> 215.88806 | M40: ='Revenue Build'!M8+'Revenue Build'!M21+'Revenue Build'!M28+'Revenue Build'!M34 -> 232.45185 | N40: ='Revenue Build'!N8+'Revenue Build'!N21+'Revenue Build'!N28+'Revenue Build'!N34 -> 255.2281 | O40: ='Revenue Build'!O8+'Revenue Build'!O21+'Revenue Build'!O28+'Revenue Build'!O34 -> 271.34146 | ... S40: ='Revenue Build'!S8+'Revenue Build'!S21+'Revenue Build'!S28+'Revenue Build'!S34 -> 285.6527
B41: Adj. EBITDA, US$ M | H41: =H40/Scenarios!H9 -> 64.4 | I41: =I40/Scenarios!I9 -> 75.6 | J41: =J40/Scenarios!J9 -> 147.41005 | K41: =K40/Scenarios!K9 -> 146.89282 | L41: =L40/Scenarios!L9 -> 154.20575 | M41: =M40/Scenarios!M9 -> 166.03704 | N41: =N40/Scenarios!N9 -> 182.30578 | O41: =O40/Scenarios!O9 -> 193.81533 | ... S41: =S40/Scenarios!S9 -> 204.03764
B42: Adj. EBITDA margin | H42: =H40/H38 -> 0.13535099 | I42: =I40/I38 -> 0.15789474 | J42: =J40/J38 -> 0.22157582 | K42: =K40/K38 -> 0.19431283 | L42: =L40/L38 -> 0.17915973 | M42: =M40/M38 -> 0.17081744 | N42: =N40/N38 -> 0.17223683 | O42: =O40/O38 -> 0.17480211 | ... S42: =S40/S38 -> 0.17360176
B43: Consensus EBITDA (FactSet Snapshot) | J43: =Snapshot!G96 -> 226.14163 | K43: =Snapshot!H96 -> 202.66118 | L43: =Snapshot!I96 -> 206.5246
B44: Variance vs consensus | J44: =J40/J43-1 -> -0.087412296 | K44: =K40/K43-1 -> 0.014747611 | L44: =L40/L43-1 -> 0.045338226
B45: 2026 guidance, US$ M (high end) | J45: 150
...

Sheet Narva
E1: Historicals | J1: Forecasts
B2: NARVA SINTERED MAGNET PLANT: PROJECT VALUATION (C$ M) | E2: 2021A | F2: 2022A | G2: 2023A | H2: 2024A | I2: 2025A | J2: 2026E | K2: 2027E | L2: 2028E | M2: 2029E | N2: 2030E | O2: 2031E | P2: 2032E | Q2: 2033E | R2: 2034E | S2: 2035E
B4: Phase 1B capex, bottom-up derivation
B5: Phase 1A build cost (€ M) | E5: 100
B6: Just Transition Fund grant, Phase 1A (€ M) | E6: 19
B7: Phase 1A nameplate capacity (t) | E7: 2000
B8: Build cost per 1,000 t (€ M) | E8: =E5/E7*1000 -> 50
B9: Phase 1B capacity added (t) | E9: 3000
B10: Phase 1B gross cost (€ M) | E10: =E8*E9/1000 -> 150
B11: EU Innovation Fund share of project cost | E11: 0.315
B12: Grant attributable to Narva (€ M) | E12: =E10*E11 -> 47.25
B13: Phase 1B net cost (€ M) | E13: =E10-E12 -> 102.75
B14: US$ per € | E14: 1.119
B15: C$ per € | E15: =E14*Scenarios!J9 -> 1.5666
B16: Phase 1B net cost (C$ M) | E16: =E13*E15 -> 160.96815
B17: Useful life for D&A (years) | E17: 15
B18: Phase 1B capex phasing | E18: =SUM(J18:S18) -> 1 | J18: 0 | K18: 0.3 | L18: 0.4 | M18: 0.3 | N18: 0 | O18: 0 | P18: 0 | Q18: 0 | R18: 0 | S18: 0
E20: Historicals | J20: Forecasts
B21: Narva operating and cash flow build | E21: 2021A | G21: 2023A | H21: 2024A | I21: 2025A | J21: 2026E | K21: 2027E | L21: 2028E | M21: 2029E | N21: 2030E | O21: 2031E | P21: 2032E | Q21: 2033E | R21: 2034E | S21: 2035E
B22: Narva sintered volume (t) | J22: ='Revenue Build'!J14 -> 300 | K22: ='Revenue Build'!K14 -> 1100 | L22: ='Revenue Build'!L14 -> 2200 | M22: ='Revenue Build'!M14 -> 3400 | N22: ='Revenue Build'!N14 -> 4300 | O22: ='Revenue Build'!O14 -> 4750 | P22: ='Revenue Build'!P14 -> 4750 | Q22: ='Revenue Build'!Q14 -> 4750 | ... S22: ='Revenue Build'!S14 -> 4750
B23: Sintered price (US$/kg) | J23: ='Revenue Build'!J15 -> 75 | K23: ='Revenue Build'!K15 -> 75 | L23: ='Revenue Build'!L15 -> 75 | M23: ='Revenue Build'!M15 -> 75 | N23: ='Revenue Build'!N15 -> 75 | O23: ='Revenue Build'!O15 -> 75 | P23: ='Revenue Build'!P15 -> 75 | Q23: ='Revenue Build'!Q15 -> 75 | ... S23: ='Revenue Build'!S15 -> 75
B24: Revenue | J24: ='Revenue Build'!J16 -> 31.5 | K24: ='Revenue Build'!K16 -> 115.5 | L24: ='Revenue Build'!L16 -> 231 | M24: ='Revenue Build'!M16 -> 357 | N24: ='Revenue Build'!N16 -> 451.5 | O24: ='Revenue Build'!O16 -> 498.75 | P24: ='Revenue Build'!P16 -> 498.75 | Q24: ='Revenue Build'!Q16 -> 498.75 | ... S24: ='Revenue Build'!S16 -> 498.75
B25: EBITDA | J25: ='Revenue Build'!J19 -> -2.835 | K25: ='Revenue Build'!K19 -> 9.24 | L25: ='Revenue Build'!L19 -> 27.72 | M25: ='Revenue Build'!M19 -> 53.55 | N25: ='Revenue Build'!N19 -> 72.24 | O25: ='Revenue Build'!O19 -> 84.7875 | P25: ='Revenue Build'!P19 -> 84.7875 | Q25: ='Revenue Build'!Q19 -> 84.7875 | ... S25: ='Revenue Build'!S19 -> 84.7875
B26: EBITDA margin | J26: =IFERROR(J25/J24,0) -> -0.09 | K26: =IFERROR(K25/K24,0) -> 0.08 | L26: =IFERROR(L25/L24,0) -> 0.12 | M26: =IFERROR(M25/M24,0) -> 0.15 | N26: =IFERROR(N25/N24,0) -> 0.16 | O26: =IFERROR(O25/O24,0) -> 0.17 | P26: =IFERROR(P25/P24,0) -> 0.17 | Q26: =IFERROR(Q25/Q24,0) -> 0.17 | ... S26: =IFERROR(S25/S24,0) -> 0.17
B27: D&A | J27: =-(($E$5-$E$6)*$E$15-SUM($J$30:J30)-SUM($J$31:J31))/$E$17 -> -8.52264 | K27: =-(($E$5-$E$6)*$E$15-SUM($J$30:K30)-SUM($J$31:K31))/$E$17 -> -11.973003 | L27: =-(($E$5-$E$6)*$E$15-SUM($J$30:L30)-SUM($J$31:L31))/$E$17 -> -16.727487 | M27: =-(($E$5-$E$6)*$E$15-SUM($J$30:M30)-SUM($J$31:M31))/$E$17 -> -20.66085 | N27: =-(($E$5-$E$6)*$E$15-SUM($J$30:N30)-SUM($J$31:N31))/$E$17 -> -21.56385 | O27: =-(($E$5-$E$6)*$E$15-SUM($J$30:O30)-SUM($J$31:O31))/$E$17 -> -22.56135 | P27: =-(($E$5-$E$6)*$E$15-SUM($J$30:P30)-SUM($J$31:P31))/$E$17 -> -23.55885 | Q27: =-(($E$5-$E$6)*$E$15-SUM($J$30:Q30)-SUM($J$31:Q31))/$E$17 -> -24.55635 | ... S27: =-(($E$5-$E$6)*$E$15-SUM($J$30:S30)-SUM($J$31:S31))/$E$17 -> -26.55135
B28: EBIT | J28: =J25+J27 -> -11.35764 | K28: =K25+K27 -> -2.733003 | L28: =L25+L27 -> 10.992513 | M28: =M25+M27 -> 32.88915 | N28: =N25+N27 -> 50.67615 | O28: =O25+O27 -> 62.22615 | P28: =P25+P27 -> 61.22865 | Q28: =Q25+Q27 -> 60.23115 | ... S28: =S25+S27 -> 58.23615
B29: Cash taxes | J29: =-MAX(0,J28)*'DCF & WACC Calculation'!$C$41 -> 0 | K29: =-MAX(0,K28)*'DCF & WACC Calculation'!$C$41 -> 0 | L29: =-MAX(0,L28)*'DCF & WACC Calculation'!$C$41 -> -3.2977539 | M29: =-MAX(0,M28)*'DCF & WACC Calculation'!$C$41 -> -9.866745 | N29: =-MAX(0,N28)*'DCF & WACC Calculation'!$C$41 -> -15.202845 | O29: =-MAX(0,O28)*'DCF & WACC Calculation'!$C$41 -> -18.667845 | P29: =-MAX(0,P28)*'DCF & WACC Calculation'!$C$41 -> -18.368595 | Q29: =-MAX(0,Q28)*'DCF & WACC Calculation'!$C$41 -> -18.069345 | ... S29: =-MAX(0,S28)*'DCF & WACC Calculation'!$C$41 -> -17.470845
B30: Narva growth capex, net of grants | J30: =-J71 -> 0 | K30: =-K71 -> -48.290445 | L30: =-L71 -> -64.38726 | M30: =-M71 -> -48.290445 | N30: =-N71 -> 0 | O30: =-O71 -> 0 | P30: =-P71 -> 0 | Q30: =-Q71 -> 0 | ... S30: =-S71 -> 0
B31: Maintenance capex | J31: =-J24*Scenarios!J91 -> -0.945 | K31: =-K24*Scenarios!K91 -> -3.465 | L31: =-L24*Scenarios!L91 -> -6.93 | M31: =-M24*Scenarios!M91 -> -10.71 | N31: =-N24*Scenarios!N91 -> -13.545 | O31: =-O24*Scenarios!O91 -> -14.9625 | P31: =-P24*Scenarios!P91 -> -14.9625 | Q31: =-Q24*Scenarios!Q91 -> -14.9625 | ... S31: =-S24*Scenarios!S91 -> -14.9625
B32: Change in NWC | J32: =-(J24-0)*'3 Statement Model'!J115/'3 Statement Model'!J27 -> -13.410931 | K32: =-(K24-J24)*'3 Statement Model'!K115/'3 Statement Model'!K27 -> -28.332589 | L32: =-(L24-K24)*'3 Statement Model'!L115/'3 Statement Model'!L27 -> -37.29771 | M32: =-(M24-L24)*'3 Statement Model'!M115/'3 Statement Model'!M27 -> -40.918795 | N32: =-(N24-M24)*'3 Statement Model'!N115/'3 Statement Model'!N27 -> -30.659697 | O32: =-(O24-N24)*'3 Statement Model'!O115/'3 Statement Model'!O27 -> -15.303282 | P32: =-(P24-O24)*'3 Statement Model'!P115/'3 Statement Model'!P27 -> 0 | Q32: =-(Q24-P24)*'3 Statement Model'!Q115/'3 Statement Model'!Q27 -> 0 | R32: =-(R24-Q24)*'3 Statement Model'!R115/'3 Statement Model'!R27 -> 0 | S32: =-(S24-R24)*'3 Statement Model'!S115/'3 Statement Model'!S27 -> 0
B33: Unlevered FCF | J33: =J25+J29+J30+J31+J32 -> -17.190931 | K33: =K25+K29+K30+K31+K32 -> -70.848034 | L33: =L25+L29+L30+L31+L32 -> -84.192724 | M33: =M25+M29+M30+M31+M32 -> -56.235985 | N33: =N25+N29+N30+N31+N32 -> 12.832458 | O33: =O25+O29+O30+O31+O32 -> 35.853873 | P33: =P25+P29+P30+P31+P32 -> 51.456405 | Q33: =Q25+Q29+Q30+Q31+Q32 -> 51.755655 | ... S33: =S25+S29+S30+S31+S32 -> 52.354155
B34: Date | I34: ='DCF & WACC Calculation'!C50 -> 46333 | J34: ='DCF & WACC Calculation'!D50 -> 46387 | K34: ='DCF & WACC Calculation'!E50 -> 46752 | L34: ='DCF & WACC Calculation'!F50 -> 47118 | M34: ='DCF & WACC Calculation'!G50 -> 47483 | N34: ='DCF & WACC Calculation'!H50 -> 47848 | O34: ='DCF & WACC Calculation'!I50 -> 48213 | P34: ='DCF & WACC Calculation'!J50 -> 48579 | ... S34: ='DCF & WACC Calculation'!M50 -> 49674
B35: Year fraction | J35: ='DCF & WACC Calculation'!D51 -> 0.15 | K35: ='DCF & WACC Calculation'!E51 -> 1 | L35: ='DCF & WACC Calculation'!F51 -> 1 | M35: ='DCF & WACC Calculation'!G51 -> 1 | N35: ='DCF & WACC Calculation'!H51 -> 1 | O35: ='DCF & WACC Calculation'!I51 -> 1 | P35: ='DCF & WACC Calculation'!J51 -> 1 | Q35: ='DCF & WACC Calculation'!K51 -> 1 | ... S35: ='DCF & WACC Calculation'!M51 -> 1
B36: Terminal value - exit multiple | S36: =S25*Comps!$F$45 -> 1185.5754
B37: Terminal value - perpetuity growth | S37: =S33*(1+'DCF & WACC Calculation'!$C$47)/($E$43-'DCF & WACC Calculation'!$C$47) -> 641.24069
B38: Cash flow, exit case | I38: 0 | J38: =J33*J35 -> -2.5786397 | K38: =K33*K35 -> -70.848034 | L38: =L33*L35 -> -84.192724 | M38: =M33*M35 -> -56.235985 | N38: =N33*N35 -> 12.832458 | O38: =O33*O35 -> 35.853873 | P38: =P33*P35 -> 51.456405 | Q38: =Q33*Q35 -> 51.755655 | R38: =R33*R35 -> 52.054905 | S38: =S33*S35+S36 -> 1237.9295
B39: Cash flow, perpetuity case | I39: 0 | J39: =J33*J35 -> -2.5786397 | K39: =K33*K35 -> -70.848034 | L39: =L33*L35 -> -84.192724 | M39: =M33*M35 -> -56.235985 | N39: =N33*N35 -> 12.832458 | O39: =O33*O35 -> 35.853873 | P39: =P33*P35 -> 51.456405 | Q39: =Q33*Q35 -> 51.755655 | R39: =R33*R35 -> 52.054905 | S39: =S33*S35+S37 -> 693.59485
B41: Narva valuation (today, C$ M)
B42: Exit EV/EBITDA multiple | E42: =Comps!F45 -> 13.982903
B43: WACC | E43: ='DCF & WACC Calculation'!C42 -> 0.10868622
...

Sheet DCF & WACC Calculation
A3: Discount Rate
A5: Discount Rate Calculation
A8: Discount Rate Calculation - Assumption
A9: Risk-Free Rate: (GoC 10Y, 30-Oct-2026) | D9: 0.038
A10: Equity Risk Premium: | D10: 0.05
A11: Interest Rate on Debt (pre-tax): | D11: 0.06
A13: Comparable Companies - Unlevered Beta
B14: Levered | C14: Debt | D14: Equity | F14: Unlevered
A15: Name | B15: Beta (1Y, Blume-adj.) | C15: (C$ M) | D15: Value (C$ M) | E15: Tax Rate | F15: Beta
A16: Lynas Rare Earths Ltd (LYC-AU) | B16: =0.67*'FS Comps'!K93+0.33 -> 1.5493886 | C16: ='FS Comps'!I53 -> 332.55385 | D16: ='FS Comps'!F53 -> 12058.362 | E16: 0.3 | F16: =B16/(1+(1-E16)*(C16/D16)) -> 1.520044
A17: MP Materials Corp. (MP-US) | B17: =0.67*'FS Comps'!K97+0.33 -> 2.1903656 | C17: ='FS Comps'!I57 -> 1353.415 | D17: ='FS Comps'!F57 -> 11725.632 | E17: 0.25 | F17: =B17/(1+(1-E17)*(C17/D17)) -> 2.0158574
A18: DOWA Holdings Co., Ltd. (5714-JP) | B18: =0.67*'FS Comps'!K102+0.33 -> 1.434367 | C18: ='FS Comps'!I62 -> 1457.3342 | D18: ='FS Comps'!F62 -> 3910.8173 | E18: 0.306 | F18: =B18/(1+(1-E18)*(C18/D18)) -> 1.1396406
A19: JX Advanced Metals Corp. (5016-JP) | B19: =0.67*'FS Comps'!K106+0.33 -> 2.2197062 | C19: ='FS Comps'!I66 -> 3956.4033 | D19: ='FS Comps'!F66 -> 20571.224 | E19: 0.306 | F19: =B19/(1+(1-E19)*(C19/D19)) -> 1.9583195
A20: Materion Corp. (MTRN-US) | B20: =0.67*'FS Comps'!K100+0.33 -> 1.9281865 | C20: ='FS Comps'!I60 -> 669.04156 | D20: ='FS Comps'!F60 -> 5636.5441 | E20: 0.25 | F20: =B20/(1+(1-E20)*(C20/D20)) -> 1.7705657
A21: Umicore SA (UMI-BE) | B21: =0.67*'FS Comps'!K99+0.33 -> 0.9120826 | C21: ='FS Comps'!I59 -> 5272.3336 | D21: ='FS Comps'!F59 -> 6993.0781 | E21: 0.25 | F21: =B21/(1+(1-E21)*(C21/D21)) -> 0.5826321
A22: Median | B22: =MEDIAN(B16:B21) -> 1.7387876 | F22: =MEDIAN(F16:F21) -> 1.6453049
A23: NEO (1Y, Blume-adj.) | B23: =0.67*'FS Comps'!K92+0.33 -> 2.0700021 | C23: ='FS Comps'!I52 -> 229.70414 | D23: ='FS Comps'!F52 -> 1195.4395 | E23: ='3 Statement Model'!J12 -> 0.3 | F23: =B23/(1+(1-E23)*(C23/D23)) -> 1.8245857
B25: Unlevered | C25: Debt | D25: Equity | F25: Levered
B26: Beta (peer median) | C26: (C$ M) | D26: Value (C$ M) | E26: Tax Rate | F26: Beta
A28: =A23 -> NEO (1Y, Blume-adj.) | B28: =F22 -> 1.6453049 | C28: =C23 -> 229.70414 | D28: =D23 -> 1195.4395 | E28: =E23 -> 0.3 | F28: =B28*(1+(1-E28)*(C28/D28)) -> 1.866607
A30: Cost of Equity - Peer Beta | F30: =D9+D10*F28 -> 0.13133035
A31: NEO 3-Year Adjusted Beta (FactSet): | D31: =Snapshot!C32 -> 1.67
A32: Cost of Equity - NEO 3Y Beta (used) | F32: =D9+D10*D31 -> 0.1215
A34: WACC
A36: WACC | F36: =F32*(D28/(D28+C28))+D11*(C28/(C28+D28))*(1-E28) -> 0.10868622
A38: DCF Model
A40: Assumptions
A41: Tax Rate | C41: ='3 Statement Model'!J12-Scenarios!$AG$15 -> 0.3
A42: Discount Rate | C42: =F36-Scenarios!$AG$10 -> 0.10868622
A43: Exit EV/EBITDA Multiple | C43: =Comps!B49+Scenarios!$AG$9 -> 13.982903
A44: Transaction (valuation) Date | C44: 46333
A45: Current Price (C$, FactSet) | C45: ='FS Comps'!D10 -> 24.9
A46: Diluted Shares Outstanding (M) | C46: ='FS Comps'!H10 -> 46.167708
A47: Perpetual Growth Rate | C47: =Scenarios!S114 -> 0.025
A48: Terminal Method (1 = Exit, 2 = Gordon, 3 = Average) | C48: 1
A49: Discounted Cash Flow | C49: Entry | D49: 2026E | E49: 2027E | F49: 2028E | G49: 2029E | H49: 2030E | I49: 2031E | J49: 2032E | K49: 2033E | L49: 2034E | M49: 2035E | N49: Exit | P49: Terminal Value
A50: Date | C50: =C44 -> 46333 | D50: 46387 | E50: 46752 | F50: 47118 | G50: 47483 | H50: 47848 | I50: 48213 | J50: 48579 | K50: 48944 | L50: 49309 | M50: 49674 | N50: =M50 -> 49674 | P50: Exit EV/EBITDA x 2035E EBITDA | R50: =M58*C43 -> 3625.2335
A51: Year Fraction | D51: =YEARFRAC(C50,D50) -> 0.15 | E51: =YEARFRAC(D50,E50) -> 1 | F51: =YEARFRAC(E50,F50) -> 1 | G51: =YEARFRAC(F50,G50) -> 1 | H51: =YEARFRAC(G50,H50) -> 1 | I51: =YEARFRAC(H50,I50) -> 1 | J51: =YEARFRAC(I50,J50) -> 1 | K51: =YEARFRAC(J50,K50) -> 1 | ... M51: =YEARFRAC(L50,M50) -> 1 | N51: =M51 -> 1 | P51: Gordon: 2035E FCF x (1+g) / (WACC - g) | R51: =M61*(1+C47)/(C42-C47) -> 1676.4845
P52: Terminal value used | R52: =CHOOSE(C48,R50,R51,AVERAGE(R50,R51)) -> 3625.2335
A53: EBIT (EBT + non-operating) | D53: ='3 Statement Model'!J39+'3 Statement Model'!J36 -> 157.50504 | E53: ='3 Statement Model'!K39+'3 Statement Model'!K36 -> 159.63607 | F53: ='3 Statement Model'!L39+'3 Statement Model'!L36 -> 166.50478 | G53: ='3 Statement Model'!M39+'3 Statement Model'!M36 -> 175.29743 | H53: ='3 Statement Model'!N39+'3 Statement Model'!N36 -> 192.12826 | I53: ='3 Statement Model'!O39+'3 Statement Model'!O36 -> 206.87642 | J53: ='3 Statement Model'!P39+'3 Statement Model'!P36 -> 209.6176 | K53: ='3 Statement Model'!Q39+'3 Statement Model'!Q36 -> 212.23043 | ... M53: ='3 Statement Model'!S39+'3 Statement Model'!S36 -> 217.5935 | P53: Implied EV/EBITDA (Gordon) | R53: =R51/M58 -> 6.466375
...

Sheet Comps
A1: Trading Comparables (C$ M, FactSet, 7-Nov-2026)
A2: Company | B2: Ticker | C2: Why it is a comp | D2: Mkt Cap | E2: Net Debt | F2: EV | G2: EV/Sales LTM | H2: EV/EBIT LTM | I2: EV/EBITDA LTM | J2: P/E FY1 | K2: P/E FY2 | L2: EBITDA Mgn LTM | M2: EBITDA Mgn NTM
A3: Specialty metals & recycling
A4: ='FS Comps'!A20 -> Dowa | B4: 5714-JP | C4: Rare/minor metal recycling + smelting (Rare Metals) | D4: ='FS Comps'!E20 -> 3910.8173 | E4: ='FS Comps'!I62-'FS Comps'!H62 -> 1036.6195 | F4: ='FS Comps'!F20 -> 5273.3481 | G4: ='FS Comps'!I41 -> 0.702302 | H4: ='FS Comps'!L20 -> 11.230455 | I4: ='FS Comps'!M20 -> 7.02818 | J4: ='FS Comps'!G41 -> 6.861837 | K4: ='FS Comps'!H41 -> 7.061873 | L4: =IFERROR('FS Comps'!F81/100,"-") -> 0.09992655 | M4: =IFERROR('FS Comps'!G81/100,"-") -> 0.09898619
A5: ='FS Comps'!A24 -> JX Advanced Metals | B5: 5016-JP | C5: Rare metals, sputtering targets (Rare Metals) | D5: ='FS Comps'!E24 -> 20571.224 | E5: ='FS Comps'!I66-'FS Comps'!H66 -> 2044.8508 | F5: ='FS Comps'!F24 -> 20114.536 | G5: ='FS Comps'!I45 -> 2.355096 | H5: ='FS Comps'!L24 -> 20.815331 | I5: ='FS Comps'!M24 -> 14.541631 | J5: ='FS Comps'!G45 -> 12.646644 | K5: ='FS Comps'!H45 -> 11.422842 | L5: =IFERROR('FS Comps'!F85/100,"-") -> 0.16195546 | M5: =IFERROR('FS Comps'!G85/100,"-") -> 0.29191784
A6: ='FS Comps'!A18 -> Materion | B6: MTRN-US | C6: Specialty metals & alloys (Rare Metals) | D6: ='FS Comps'!E18 -> 5636.5441 | E6: ='FS Comps'!I60-'FS Comps'!H60 -> 647.17173 | F6: ='FS Comps'!F18 -> 6260.073 | G6: ='FS Comps'!I39 -> 2.031614 | H6: ='FS Comps'!L18 -> 30.790753 | I6: ='FS Comps'!M18 -> 20.378897 | J6: ='FS Comps'!G39 -> 26.057919 | K6: ='FS Comps'!H39 -> 21.871107 | L6: =IFERROR('FS Comps'!F79/100,"-") -> 0.09969206 | M6: =IFERROR('FS Comps'!G79/100,"-") -> 0.11855509
A7: ='FS Comps'!A17 -> Umicore | B7: UMI-BE | C7: Recycling, catalysts, specialty materials (RM, C&O) | D7: ='FS Comps'!E17 -> 6993.0781 | E7: ='FS Comps'!I59-'FS Comps'!H59 -> 2354.2533 | F7: ='FS Comps'!F17 -> 8731.9849 | G7: ='FS Comps'!I38 -> 0.220222 | H7: ='FS Comps'!L17 -> 4.752402 | I7: ='FS Comps'!M17 -> 3.838235 | J7: ='FS Comps'!G38 -> 9.921482 | K7: ='FS Comps'!H38 -> 10.07426 | L7: =IFERROR('FS Comps'!F78/100,"-") -> 0.05737577 | M7: =IFERROR('FS Comps'!G78/100,"-") -> 0.2653063
A8: Western rare earths & magnets
A9: ='FS Comps'!A11 -> Lynas Rare Earths | B9: LYC-AU | C9: Ex-China rare earth separation (C&O) | D9: ='FS Comps'!E11 -> 12058.362 | E9: ='FS Comps'!I53-'FS Comps'!H53 -> -855.88169 | F9: ='FS Comps'!F11 -> 10987.562 | G9: ='FS Comps'!I32 -> 11.998773 | H9: ='FS Comps'!L11 -> 48.647592 | I9: ='FS Comps'!M11 -> 29.991181 | J9: ='FS Comps'!G32 -> 26.251358 | K9: ='FS Comps'!H32 -> 15.921026 | L9: =IFERROR('FS Comps'!F72/100,"-") -> 0.40007669 | M9: =IFERROR('FS Comps'!G72/100,"-") -> 0.55661976
A10: ='FS Comps'!A15 -> MP Materials A | B10: MP-US | C10: US rare earths + magnet plant (Magnequench) | D10: ='FS Comps'!E15 -> 11725.632 | E10: ='FS Comps'!I57-'FS Comps'!H57 -> -546.83232 | F10: ='FS Comps'!F15 -> 9967.6579 | G10: ='FS Comps'!I36 -> 13.854806 | H10: ='FS Comps'!L15 -> - | I10: ='FS Comps'!M15 -> 66.543033 | J10: ='FS Comps'!G36 -> - | K10: ='FS Comps'!H36 -> 59.84639 | L10: =IFERROR('FS Comps'!F76/100,"-") -> 0.2082082 | M10: =IFERROR('FS Comps'!G76/100,"-") -> 0.41502766
A11: Median, specialty metals & recycling | G11: =IFERROR(MEDIAN(G4:G7),"-") -> 1.366958 | H11: =IFERROR(MEDIAN(H4:H7),"-") -> 16.022893 | I11: =IFERROR(MEDIAN(I4:I7),"-") -> 10.784906 | J11: =IFERROR(MEDIAN(J4:J7),"-") -> 11.284063 | K11: =IFERROR(MEDIAN(K4:K7),"-") -> 10.748551 | L11: =IFERROR(MEDIAN(L4:L7),"-") -> 0.099809305 | M11: =IFERROR(MEDIAN(M4:M7),"-") -> 0.19193069
A12: Median, Western rare earths & magnets | G12: =IFERROR(MEDIAN(G9:G10),"-") -> 12.926789 | H12: =IFERROR(MEDIAN(H9:H10),"-") -> 48.647592 | I12: =IFERROR(MEDIAN(I9:I10),"-") -> 48.267107 | J12: =IFERROR(MEDIAN(J9:J10),"-") -> 26.251358 | K12: =IFERROR(MEDIAN(K9:K10),"-") -> 37.883708 | L12: =IFERROR(MEDIAN(L9:L10),"-") -> 0.30414244 | M12: =IFERROR(MEDIAN(M9:M10),"-") -> 0.48582371
A13: Median, all six | G13: =IFERROR(MEDIAN(G4:G7,G9:G10),"-") -> 2.193355 | H13: =IFERROR(MEDIAN(H4:H7,H9:H10),"-") -> 20.815331 | I13: =IFERROR(MEDIAN(I4:I7,I9:I10),"-") -> 17.460264 | J13: =IFERROR(MEDIAN(J4:J7,J9:J10),"-") -> 12.646644 | K13: =IFERROR(MEDIAN(K4:K7,K9:K10),"-") -> 13.671934 | L13: =IFERROR(MEDIAN(L4:L7,L9:L10),"-") -> 0.130941 | M13: =IFERROR(MEDIAN(M4:M7,M9:M10),"-") -> 0.27861207
A14: Neo Performance Materials (market) | B14: NEO-CA | D14: ='FS Comps'!E10 -> 1195.4395 | E14: ='FS Comps'!I52-'FS Comps'!H52 -> 93.186338 | F14: ='FS Comps'!F10 -> 1263.5324 | G14: ='FS Comps'!I31 -> 1.516119 | H14: ='FS Comps'!L10 -> 11.125884 | I14: ='FS Comps'!M10 -> 9.388245 | J14: ='FS Comps'!G31 -> 13.395441 | K14: ='FS Comps'!H31 -> 12.521413
A15: NEO on our 2026E / 2027E reported EBITDA | I15: =F14/'3 Statement Model'!J47 -> 7.0483675 | J15: =F14/'3 Statement Model'!K47 -> 6.871077
A18: Specialty metals median | E18: All six median | I18: Re-Rate (Half of all six)
A19: Relative Valuation: | B19: EV/EBITDA | C19: P/E | E19: Relative Valuation: | F19: EV/EBITDA | G19: P/E | I19: Relative Valuation: | J19: EV/EBITDA | K19: P/E
A20: Multiple | B20: =B37 -> 14.541631 | C20: =K11*1 -> 10.748551 | E20: Multiple | F20: =I13*1 -> 17.460264 | G20: =K13*1 -> 13.671934 | I20: Multiple | J20: =I13*0.5 -> 8.730132 | K20: =K13*0.5 -> 6.835967
A21: 2027E est. (EBITDA / NI) | B21: ='3 Statement Model'!K47 -> 183.89147 | C21: ='3 Statement Model'!K44 -> 102.09767 | E21: 2027E est. (EBITDA / NI) | F21: ='3 Statement Model'!K47 -> 183.89147 | G21: ='3 Statement Model'!K44 -> 102.09767 | I21: 2027E est. (EBITDA / NI) | J21: ='3 Statement Model'!K47 -> 183.89147 | K21: ='3 Statement Model'!K44 -> 102.09767
A22: Implied EV | B22: =B20*B21 -> 2674.0819 | E22: Implied EV | F22: =F20*F21 -> 3210.7936 | I22: Implied EV | J22: =J20*J21 -> 1605.3968
A23: Less net debt & MI, plus affiliates | B23: ='DCF & WACC Calculation'!C72+'DCF & WACC Calculation'!C71-'DCF & WACC Calculation'!C69-'DCF & WACC Calculation'!C70 -> 70.378625 | E23: Less net debt & MI, plus affiliates | F23: ='DCF & WACC Calculation'!C72+'DCF & WACC Calculation'!C71-'DCF & WACC Calculation'!C69-'DCF & WACC Calculation'!C70 -> 70.378625 | I23: Less net debt & MI, plus affiliates | J23: ='DCF & WACC Calculation'!C72+'DCF & WACC Calculation'!C71-'DCF & WACC Calculation'!C69-'DCF & WACC Calculation'!C70 -> 70.378625
A24: Equity value | B24: =B22-B23 -> 2603.7032 | C24: =C20*C21 -> 1097.4021 | E24: Equity value | F24: =F22-F23 -> 3140.4149 | G24: =G20*G21 -> 1395.8727 | I24: Equity value | J24: =J22-J23 -> 1535.0182 | K24: =K20*K21 -> 697.93633
A25: Shares Outstanding | B25: ='DCF & WACC Calculation'!C46 -> 46.167708 | C25: =B25 -> 46.167708 | E25: Shares Outstanding | F25: ='DCF & WACC Calculation'!C46 -> 46.167708 | G25: =F25 -> 46.167708 | I25: Shares Outstanding | J25: ='DCF & WACC Calculation'!C46 -> 46.167708 | K25: =J25 -> 46.167708
A26: Implied Price | B26: =B24/B25 -> 56.396632 | C26: =C24/C25 -> 23.769906 | E26: Implied Price | F26: =F24/F25 -> 68.021894 | G26: =G24/G25 -> 30.234827 | I26: Implied Price | J26: =J24/J25 -> 33.248741 | K26: =K24/K25 -> 15.117414
A27: Current Price | B27: ='DCF & WACC Calculation'!C45 -> 24.9 | C27: =B27 -> 24.9 | E27: Current Price | F27: ='DCF & WACC Calculation'!C45 -> 24.9 | G27: =F27 -> 24.9 | I27: Current Price | J27: ='DCF & WACC Calculation'!C45 -> 24.9 | K27: =J27 -> 24.9
A28: Implied Upside | B28: =B26/B27-1 -> 1.264925 | C28: =C26/C27-1 -> -0.045385319 | E28: Implied Upside | F28: =F26/F27-1 -> 1.731803 | G28: =G26/G27-1 -> 0.21425008 | I28: Implied Upside | J28: =J26/J27-1 -> 0.33529079 | K28: =K26/K27-1 -> -0.39287496
A32: Exit Multiple Build (2035E)
A34: Specialty metals ex-Umicore
A35: Umicore LTM EV/EBITDA (FactSet) | B35: =I7 -> 3.838235 | C35: Precious-metal pass-through distorts sales
A36: Ex Umicore: average | B36: =AVERAGE(I4:I6) -> 13.982903 | C36: Dowa, JX, Materion
A37: Ex Umicore: median | B37: =MEDIAN(I4:I6) -> 14.541631 | C37: Dowa, JX, Materion
A38: Average incl. Umicore | B38: =AVERAGE(I4:I7) -> 11.446736
A40: Sum-of-the-parts exit multiple
A41: Segment | B41: 2035E adj. EBITDA | C41: Peer basis | D41: Peer multiple | E41: Scarcity discount | F41: Multiple used | G41: EV | H41: % of segment EBITDA
A42: Rare Metals | B42: ='Revenue Build'!S8 -> 140.5029 | C42: Dowa, JX, Materion average | D42: =$B$36 -> 13.982903 | E42: 0 | F42: =D42*(1-E42) -> 13.982903 | G42: =B42*F42 -> 1964.6383 | H42: =B42/$B$46 -> 0.43277908
A43: Chemicals & Oxides | B43: ='Revenue Build'!S28 -> 42.031879 | C43: Specialty metals ex Umicore | D43: =$B$36 -> 13.982903 | E43: 0 | F43: =D43*(1-E43) -> 13.982903 | G43: =B43*F43 -> 587.72767 | H43: =B43/$B$46 -> 0.12946721
A44: Bonded powders | B44: ='Revenue Build'!S18 -> 57.330423 | C44: Specialty metals ex Umicore | D44: =$B$36 -> 13.982903 | E44: 0 | F44: =D44*(1-E44) -> 13.982903 | G44: =B44*F44 -> 801.64572 | H44: =B44/$B$46 -> 0.17659001
A45: Narva sintered magnets | B45: ='Revenue Build'!S19 -> 84.7875 | C45: Base: peer avg; Bull: Lynas less discount; Bear: full life | D45: =I9 -> 29.991181 | E45: 0.5 | F45: =CHOOSE(Scenarios!$S$132,$B$36,D45*(1-E45),Narva!$E$77) -> 13.982903 | G45: =B45*F45 -> 1185.5754 | H45: =B45/$B$46 -> 0.2611637
A46: Segment total | B46: =SUM(B42:B45) -> 324.6527 | F46: =G46/B46 -> 13.982903 | G46: =SUM(G42:G45) -> 4539.5871 | H46: =SUM(H42:H45) -> 1
A47: Corporate costs | B47: ='Revenue Build'!S34 -> -39 | C47: At blended segment multiple | F47: =F46 -> 13.982903 | G47: =B47*F47 -> -545.3332
...

Sheet Valuation Summary
B2: Valuation Summary
B3: Method | D3: Min | E3: Max | F3: Target | G3: Weight
B4: DCF (bear to bull) | D4: =D32 -> 11.894189 | E4: =D34 -> 62.704883 | F4: ='DCF & WACC Calculation'!C75 -> 39.289406 | G4: 0.5
B5: Comps | D5: =MIN(Comps!J26,Comps!B26) -> 33.248741 | E5: =MAX(Comps!F26,Comps!B26) -> 68.021894 | F5: =Comps!B26 -> 56.396632 | G5: 0.5
B6: Equity Research (6 Buys) | D6: =MIN(Targets!G5:G10) -> 50 | E6: =MAX(Targets!G5:G10) -> 66.7848 | F6: =Targets!G4 -> 56.8507
B7: 52W range | D7: ='FS Comps'!H92 -> 15.31 | E7: ='FS Comps'!E92 -> 47.189999
B9: Target Price (Low) | G9: =D4*G4+D5*G5 -> 22.571465
B10: Target Price (Low) Upside, % | G10: =G9/G14-1 -> -0.093515472
B11: Target Price (High) | G11: =E4*G4+E5*G5 -> 65.363388
B12: Target Price (High) Upside, % | G12: =G11/G14-1 -> 1.6250357
B13: 12-Month Target Price | G13: =F4*G4+F5*G5 -> 47.843019
B14: Current Price | G14: ='DCF & WACC Calculation'!C45 -> 24.9
B15: Dividend yield | G15: ='3 Statement Model'!J139/G14 -> 0.016064257
B16: Total Return (price + dividend) | G16: =G13/G14-1+G15 -> 0.93747064
B17: Rating (BUY > 15%, SELL < -10%) | G17: =IF(G16>0.15,"BUY",IF(G16<-0.1,"SELL","HOLD")) -> BUY
I19: Current Price | J19: =G14 -> 24.9
I20: Target Price | J20: =G13 -> 47.843019
B23: Method | D23: Low | E23: Range | F23: High
B24: =B4 -> DCF (bear to bull) | D24: =D4 -> 11.894189 | E24: =F24-D24 -> 50.810694 | F24: =E4 -> 62.704883
B25: =B5 -> Comps | D25: =D5 -> 33.248741 | E25: =F25-D25 -> 34.773153 | F25: =E5 -> 68.021894
B26: =B6 -> Equity Research (6 Buys) | D26: =D6 -> 50 | E26: =F26-D26 -> 16.7848 | F26: =E6 -> 66.7848
B27: =B7 -> 52W range | D27: =D7 -> 15.31 | E27: =F27-D27 -> 31.879999 | F27: =E7 -> 47.189999
B30: Scenario values (DCF, C$/share)
B31: Case | D31: Value (C$) | E31: Upside | F31: 2027E adj. EBITDA | G31: TV % of EV
B32: Bear | D32: 11.894189 | E32: -0.52232174 | F32: 66.999695 | G32: 0.8752807
B33: Base | D33: 39.289406 | E33: 0.5778878 | F33: 205.64995 | G33: 0.7482347
B34: Bull | D34: 62.704883 | E34: 1.5182684 | F34: 267.89935 | G34: 0.83754139

Sheet Thesis Map
B2: Thesis Map: what we argue, the evidence, and how each case models it
B3: Thesis point | C3: Evidence (source, date) | D3: Base: our thesis | E3: Bull: catalysts land early or bigger | F3: Bear: risks slow the thesis down | G3: What would change our mind
B4: I. Narva makes Magnequench the growth engine | C4: • Commercial production Sep-2026 • Phase 1A 2,000 t; Phase 1B to ~5,000 t • Bosch multi-year MOU; three tier-1 motor awards • 2-3 programs in production in 2026 • Phase 1B cost: Phase 1A €100M / 2,000 t → €150M for +3,000 t, less 31.5% EU grant = C$161M net Source: Q2-26 release; Narva tab | D4: • Ramp 300 t (2026) → 4,300 t (2030) → 4,750 t from 2031 (95% of 5,000 t) • Price US$75/kg; margin -9% → 17% • No Phase 2 • Phase 1B capex C$161M net of grant, 2027-29 • Exit 14.0x (peer average, no scarcity premium) • Stand-alone check: C$8.92/share at exit, C$4.33 on perpetuity; own cash flows support ~7.6x | E4: • New OEM awards fill Phase 1B early • Phase 2 funded: 10,000 t by 2032 • Price US$80-85/kg • Phase 2 capex C$392M, 2028-30, no grant • Exit 15.0x (Lynas less 50%) | F4: • Qualification slips a year; max 3,800 t • Chinese magnets undercut to US$58-62/kg • Deep start-up losses • Phase 1B 25% over budget • Exit ~4.8x (full life, 15 years after 2035) | G4: • Program start dates (Q3/Q4 calls) • Phase 1B commissioning date • Any Phase 2 funding
B5: II. Rare Metals pays for the build | C5: • Hafnium US$3,500 → 13,500/kg (Jul-25 to Jul-26) • Rare Metals EBITDA US$44M of Q2 US$57M • Guidance raised on "contracted volumes ... into 2027" • No hafnium forward curve • Consensus EBITDA C$226M / 203M / 207M (2026-28) Source: Q2-26 release; FactSet, 7-Nov-2026 | D5: • 2026 index 190 = guidance (H1 actual + H2 at ~80% of H1) • Held flat at 190 every year (no forward curve; standard commodity practice) • EBITDA C$206M / 206M / 216M (2026-28), in line with consensus for 2027-28 • Volume +5% in 2026, then ~2% a year • Margin 38% → 28% by 2029 as feedstock costs catch up | E5: • Contracts reprice to the H1-26 run-rate • Index 195 (2026), then 211 flat from 2027 • Export controls persist • Margin 37% (2027) easing to 30% | F5: • China eases export controls • Index 180 (2026), then 105-115 from 2027 (near 2025 levels) • Peak-cost inventory squeezes margin to 24-26% | G5: • Q3 Rare Metals EBITDA (10-Nov) • Whether 2027 contracts lock in price, not just volume • Hafnium price • China licensing changes
